BEGIN:VCALENDAR
VERSION:2.0
PRODID:-//Patriot Guard Riders - ECPv5.3.2.1//NONSGML v1.0//EN
CALSCALE:GREGORIAN
METHOD:PUBLISH
X-WR-CALNAME:Patriot Guard Riders
X-ORIGINAL-URL:https://www.patriotguard.org
X-WR-CALDESC:Events for Patriot Guard Riders
BEGIN:VTIMEZONE
TZID:America/New_York
BEGIN:DAYLIGHT
TZOFFSETFROM:-0500
TZOFFSETTO:-0400
TZNAME:EDT
DTSTART:20190310T070000
END:DAYLIGHT
BEGIN:STANDARD
TZOFFSETFROM:-0400
TZOFFSETTO:-0500
TZNAME:EST
DTSTART:20191103T060000
END:STANDARD
END:VTIMEZONE
BEGIN:VEVENT
DTSTART;VALUE=DATE:20190726
DTEND;VALUE=DATE:20190727
DTSTAMP:20210403T191800
CREATED:20190725T033447Z
LAST-MODIFIED:20190725T033447Z
UID:168749-1564099200-1564185599@www.patriotguard.org
SUMMARY:Von F Riser
DESCRIPTION:Honor Mission\nVon F Riser\, Retired\, Veteran\nUSN –\nBrigham City\, Utah – 07-26-19\n\n\n\nABOUT THE MISSION: \nThe Patriot Guard Riders have been requested to stand a flag line for SR Von F Riser. SR Von F Riser served in the U.S. Navy. This will be a veteran’s format. The service will be at Gillies Funeral Chapel on 634 E 200 S in Brigham City at 11:00 AM on Friday\, July 26\, 2019. We will stand a flag line at the mortuary and then escort SR Von F Riser to his final resting place in the Brigham City Cemetery on 300 E 300 S in Brigham City\, where we will stand another flag line. Thank you\, SR Von F Riser\, for your service. Anyone attending in a cage and willing to transport flags please contact Robert Quick at: 435-740-4658.\n\n\nPRIMARY STAGING DETAILS: 07-26-19 \nStaging Time: 10:45 AM\n \nSmith’s\n156 S Main\nBrigham City\, Utah\n\n\nRide Captain: \nRobert Quick\n435-740-4658\n\n\nSpecial Instructions: \nKSU: 11:15 AM\nWeather: Mostly cloudy with a 20% chance of showers and a high of 88.\nPlease dress accordingly and keep yourself hydrated.\n\n\nFlags & Water:\nFlags will be provided\nIf you have large bike flags\, please bring them.\nWater WILL NOT be provided\, please bring your own.\n\n\n\nSubmitted By: Dave Richardson \nPosition: Utah State Captain \n\nNote: You do not have to own/ride a motorcycle or be a veteran to join\, and membership is Free. The only requirement is RESPECT! To subscribe to receive mission notices\, log into the National Site and click on the Members tab at the top. Select the Subscribe to PGR Missions option.\n Print This Page
URL:https://www.patriotguard.org/mission/von-f-riser/
CATEGORIES:Honor Mission
END:VEVENT
END:VCALENDAR