BEGIN:VCALENDAR
VERSION:2.0
PRODID:-//Patriot Guard Riders - ECPv5.6.0//NONSGML v1.0//EN
CALSCALE:GREGORIAN
METHOD:PUBLISH
X-WR-CALNAME:Patriot Guard Riders
X-ORIGINAL-URL:https://www.patriotguard.org
X-WR-CALDESC:Events for Patriot Guard Riders
BEGIN:VTIMEZONE
TZID:America/New_York
BEGIN:DAYLIGHT
TZOFFSETFROM:-0500
TZOFFSETTO:-0400
TZNAME:EDT
DTSTART:20160313T070000
END:DAYLIGHT
BEGIN:STANDARD
TZOFFSETFROM:-0400
TZOFFSETTO:-0500
TZNAME:EST
DTSTART:20161106T060000
END:STANDARD
END:VTIMEZONE
BEGIN:VEVENT
DTSTART;TZID=America/New_York:20160712T090000
DTEND;TZID=America/New_York:20160712T110000
DTSTAMP:20210512T151302
CREATED:20160712T130000Z
LAST-MODIFIED:20191201T144423Z
UID:410678-1468314000-1468321200@www.patriotguard.org
SUMMARY:Vito Cammarata
DESCRIPTION:Vito Cammarata\, USA\, St Louis\, MO  12 July 16 \nLadies and Gentlemen of the Patriot Guard Riders\, the family of Army Veteran Vito Cammarata has invited the PGR to stand in honor of their fallen Hero\, just as he once stood for us. It will be our distinct privilege to escort Hero Cammarata to his final resting place\, the hallowed grounds of Jefferson Barracks National Cemetery. \nMr. Cammarata served our Great Nation as a Specialist in the Army from March 1957 through February 1959\, and was honorably discharged achieving the rating of E-4. \nThank you\, Mr. Cammarata\, from a grateful Nation. Your faithful dedication to serve the United States of America is deeply appreciated\, and will never be forgotten. \nMission details: Please note: we will not assemble a flag line at the funeral home\, as this is an escort mission. A flag line will be established at Jefferson Barracks. \nTuesday\, July 12\, 2016\n09:30 am – Staging \n09:40 am – Ride Meeting @ Ziegenhein (South County) 4830 Lemay Ferry Road\, St. Louis\, MO  63129 \n10:00 am – Family to gather to form procession / escort to Jefferson Barracks \n10:30 am – Jefferson Barracks National Cemetery appointment time \nRide Captain / Support / Flags – Jeff Hirsch / jeff.hirsch@aol.com / 314-210-6307 \nCages welcome. Please arrive hydrated\, and prepared for a safe and Respectful Honor escort.
URL:https://www.patriotguard.org/mission/vito-cammarata/
END:VEVENT
END:VCALENDAR