BEGIN:VCALENDAR
VERSION:2.0
PRODID:-//Patriot Guard Riders - ECPv5.3.2.1//NONSGML v1.0//EN
CALSCALE:GREGORIAN
METHOD:PUBLISH
X-WR-CALNAME:Patriot Guard Riders
X-ORIGINAL-URL:https://www.patriotguard.org
X-WR-CALDESC:Events for Patriot Guard Riders
BEGIN:VTIMEZONE
TZID:America/New_York
BEGIN:DAYLIGHT
TZOFFSETFROM:-0500
TZOFFSETTO:-0400
TZNAME:EDT
DTSTART:20210314T070000
END:DAYLIGHT
BEGIN:STANDARD
TZOFFSETFROM:-0400
TZOFFSETTO:-0500
TZNAME:EST
DTSTART:20211107T060000
END:STANDARD
END:VTIMEZONE
BEGIN:VEVENT
DTSTART;VALUE=DATE:20210403
DTEND;VALUE=DATE:20210404
DTSTAMP:20210405T172456
CREATED:20210402T113534Z
LAST-MODIFIED:20210402T113639Z
UID:573634-1617408000-1617494399@www.patriotguard.org
SUMMARY:Virie E. "Gene" Long
DESCRIPTION:HOTH Mission\nVirie E. “Gene” Long\nUSA \, WWII\nDurham\, North Carolina – 04-03-21\n\n\n\nABOUT THE MISSION: \nPatriots we have been requested to do a ride by and salute for SGT Virie E. “Gene” Long\, who is celebrating his 99th birthday. SGT Long served with the AAF\, as a Aerial Engineer\, stationed at the 593rd AAF Base.\nHe was awarded the American Theater Service medal w/stripe; Good Conduct; WWII Victory Medal; Expert 44 Carbine; and Badge Airplane Mechanic. As SGT Long stood for us\, it will be our honor to honor this hero on his 99th birthday.\n\n\nPRIMARY STAGING DETAILS: 04-03-21 \nStaging: 9:00 AM\n \nFood Lion\, pkg lot\n3808 Guess Rd.\nDurham\, North Carolina 27705\n\n\nRide Captain: \nJimmy Dixon\n(252) 432-5553\n\n\nSpecial Instructions: \nStage: 9:00 AM\nBrief: 9:30 AM\nKSU: 10:00 AM\, for a ride by and salute at his home.\n\n\nFlags & Water:\nFlags will not be provided\nIf you have large bike flags\, please bring them.\nWater WILL NOT be provided\, please bring your own.\n\nSubmitted By: Charles Bullock \nPosition: North Carolina Assistant State Captain \n\nNote: You do not have to own/ride a motorcycle or be a veteran to join\, and membership is Free. The only requirement is RESPECT! To subscribe to receive mission notices\, log into the National Site and click on the Members tab at the top. Select the Subscribe to PGR Missions option.\n Print This Page
URL:https://www.patriotguard.org/mission/virie-e-gene-long/
CATEGORIES:HOTH Mission
END:VEVENT
END:VCALENDAR