BEGIN:VCALENDAR
VERSION:2.0
PRODID:-//Patriot Guard Riders - ECPv5.3.2.1//NONSGML v1.0//EN
CALSCALE:GREGORIAN
METHOD:PUBLISH
X-WR-CALNAME:Patriot Guard Riders
X-ORIGINAL-URL:https://www.patriotguard.org
X-WR-CALDESC:Events for Patriot Guard Riders
BEGIN:VTIMEZONE
TZID:America/New_York
BEGIN:DAYLIGHT
TZOFFSETFROM:-0500
TZOFFSETTO:-0400
TZNAME:EDT
DTSTART:20190310T070000
END:DAYLIGHT
BEGIN:STANDARD
TZOFFSETFROM:-0400
TZOFFSETTO:-0500
TZNAME:EST
DTSTART:20191103T060000
END:STANDARD
END:VTIMEZONE
BEGIN:VEVENT
DTSTART;VALUE=DATE:20190708
DTEND;VALUE=DATE:20190709
DTSTAMP:20210403T194239
CREATED:20190704T212725Z
LAST-MODIFIED:20190704T212725Z
UID:166657-1562544000-1562630399@www.patriotguard.org
SUMMARY:Virginia O. Miller
DESCRIPTION:Honor Mission\nVirginia O. Miller \, Veteran\nUSAF –\nFlorence\, South Carolina – 07-08-19\n\n\n\n\nABOUT THE MISSION: \nThe Patriot Guard Riders have been asked to ride a procession and stand a flag line for the veteran and family of Virginia O. Miller. She served in the U.S. Air Force during the Korean Conflict as NCOIC of Operations and Training in the 507th Tactical Control Headquarters at Pope Air Force Base.\n\n\nPRIMARY STAGING DETAILS: 07-08-19 \nStaging Time: 11:30  \nWaters-Powell Funeral Home\n400 South Dargan Street\nFlorence\, South Carolina 29506\nMap\n\n\nRide Captain: \nTommy Jones\n(843)206-6158\nhtommyjones@aol.com\n    David Squibb\ndbsquibb@hotmail.com\n(540)903-6474\n\n\n\nSpecial Instructions: \nBriefing: 11:40 AM Establish flag line: 12:10 PM Visitation: 12:30 PM – 1:30 PM Service: 1:30 PM – 2:00 PM.Escort from funeral home to Florence National Cemetery. Internment at Florence National Cemetery after a short service at the funeral home.\n\n\nFlags & Water:\nFlags will be provided\nIf you have large bike flags\, please bring them.\nWater will be provided.\n\n\n\nSubmitted By: L.Z. Harrison\, Jr. \nPosition: South Carolina Assistant State Captain \n\nNote: You do not have to own/ride a motorcycle or be a veteran to join\, and membership is Free. The only requirement is RESPECT! To subscribe to receive mission notices\, log into the National Site and click on the Members tab at the top. Select the Subscribe to PGR Missions option.\n Print This Page
URL:https://www.patriotguard.org/mission/virginia-o-miller/
CATEGORIES:Honor Mission
END:VEVENT
END:VCALENDAR