BEGIN:VCALENDAR
VERSION:2.0
PRODID:-//Patriot Guard Riders - ECPv5.6.0//NONSGML v1.0//EN
CALSCALE:GREGORIAN
METHOD:PUBLISH
X-WR-CALNAME:Patriot Guard Riders
X-ORIGINAL-URL:https://www.patriotguard.org
X-WR-CALDESC:Events for Patriot Guard Riders
BEGIN:VTIMEZONE
TZID:America/New_York
BEGIN:DAYLIGHT
TZOFFSETFROM:-0500
TZOFFSETTO:-0400
TZNAME:EDT
DTSTART:20160313T070000
END:DAYLIGHT
BEGIN:STANDARD
TZOFFSETFROM:-0400
TZOFFSETTO:-0500
TZNAME:EST
DTSTART:20161106T060000
END:STANDARD
END:VTIMEZONE
BEGIN:VEVENT
DTSTART;TZID=America/New_York:20160804T090000
DTEND;TZID=America/New_York:20160804T110000
DTSTAMP:20210512T011034
CREATED:20160804T130000Z
LAST-MODIFIED:20191201T143857Z
UID:410175-1470301200-1470308400@www.patriotguard.org
SUMMARY:Virgil W. Breakfield\, 72
DESCRIPTION:The Family of U.S. Army Veteran\, CPL. Virgil W. Breakfield (72 yrs.) has Requested the Presence of the Patriot Guard for the Final Mission of Their Loved One.\n \nUnder the Direction of:\nDeClue Funeral Home\n301 High Street\nPotosi\, MO.  63664\n \nTHURSDAY\, AUGUST  4th.\,  2016\n \n(Flag Line Mission Only)\n \nVisitation & Service:\nGrassy Hollow Baptist Church\n11059 Grassy Hollow Road\nPotosi\, MO.  63664\n(Hwy. 8 to Grassy Hollow Rd.(9.2 mi. from Potosi) turn Left)\n \nVisitation:  9:30 a.m. to 11:00 a.m.   (0930 hrs. to 1100 hrs.)\nService:  11:00 a.m.  (1100 hrs.)\nInterment at the Grassy Hollow Baptist Church Cemetery with Full Military Honors.\n \nRCIC:\nBrad “Backdraft” Hahn\npgr_bkdft@hotmail.com\n \nFlags / Support:\nLaura “Honeybee” Yager\n \nStaging:  Grassy Hollow Baptist Church @ 9:15 a.m. (0915 hrs.) to Stake & Establish a Flag Line.\n \nWeather Predictions:\n93° / Mostly Sunny / 20% Chance of Showers /  Dress & Travel Accordingly / HYDRATE.
URL:https://www.patriotguard.org/mission/virgil-w-breakfield-72/
CATEGORIES:Archive
END:VEVENT
END:VCALENDAR