BEGIN:VCALENDAR
VERSION:2.0
PRODID:-//Patriot Guard Riders - ECPv5.6.0//NONSGML v1.0//EN
CALSCALE:GREGORIAN
METHOD:PUBLISH
X-WR-CALNAME:Patriot Guard Riders
X-ORIGINAL-URL:https://www.patriotguard.org
X-WR-CALDESC:Events for Patriot Guard Riders
BEGIN:VTIMEZONE
TZID:America/New_York
BEGIN:DAYLIGHT
TZOFFSETFROM:-0500
TZOFFSETTO:-0400
TZNAME:EDT
DTSTART:20150308T070000
END:DAYLIGHT
BEGIN:STANDARD
TZOFFSETFROM:-0400
TZOFFSETTO:-0500
TZNAME:EST
DTSTART:20151101T060000
END:STANDARD
END:VTIMEZONE
BEGIN:VEVENT
DTSTART;TZID=America/New_York:20150504T090000
DTEND;TZID=America/New_York:20150504T110000
DTSTAMP:20210512T090229
CREATED:20150504T130000Z
LAST-MODIFIED:20191201T125405Z
UID:395161-1430730000-1430737200@www.patriotguard.org
SUMMARY:Virgil Polkinghorn
DESCRIPTION:Virgil Polkinghorn\nUS ARMY \nDubuque\, Iowa\n4 May\, 2015 \nThe Patriot Guard Riders have been invited by the family of Virgil A. Polkinghorn\, a US ARMY Veteran\, to participate in honoring his service to this Great Nation by providing an escort as Virgil is transported to his final resting place. \n\nRALLY POINT: Behr Funeral Home\,1491 Main St\, Dubuque\, Iowa\nhttps://goo.gl/maps/BN5w3 \nRALLY TIME: 10:00 AM \nMISSION BRIEF: 10:30 AM \nESCORT: 10:45 AM \nBURIAL: Linwood Cemetery\, 2735 Windsor Ave\, Dubuque\, Iowa\nhttps://goo.gl/maps/OGY70 \n\nRide Captain:\nJim Loney\njiloa12@gmail.com\n(563) 663-0348 \nPosted By: \nScott Rathjens\nSRC\, NE IOWA
URL:https://www.patriotguard.org/mission/virgil-polkinghorn/
CATEGORIES:Archive
END:VEVENT
END:VCALENDAR