BEGIN:VCALENDAR
VERSION:2.0
PRODID:-//Patriot Guard Riders - ECPv5.3.2.1//NONSGML v1.0//EN
CALSCALE:GREGORIAN
METHOD:PUBLISH
X-WR-CALNAME:Patriot Guard Riders
X-ORIGINAL-URL:https://www.patriotguard.org
X-WR-CALDESC:Events for Patriot Guard Riders
BEGIN:VTIMEZONE
TZID:America/New_York
BEGIN:DAYLIGHT
TZOFFSETFROM:-0500
TZOFFSETTO:-0400
TZNAME:EDT
DTSTART:20190310T070000
END:DAYLIGHT
BEGIN:STANDARD
TZOFFSETFROM:-0400
TZOFFSETTO:-0500
TZNAME:EST
DTSTART:20191103T060000
END:STANDARD
END:VTIMEZONE
BEGIN:VEVENT
DTSTART;VALUE=DATE:20190830
DTEND;VALUE=DATE:20190831
DTSTAMP:20210402T123006
CREATED:20190827T144750Z
LAST-MODIFIED:20190827T144750Z
UID:172051-1567123200-1567209599@www.patriotguard.org
SUMMARY:Virgil Joe Cottman
DESCRIPTION:Honor Mission\nVirgil Joe Cottman\, Veteran\nUSA – Vietnam\nOklahoma City\, Oklahoma – 08-30-19\n\n\n\nABOUT THE MISSION: \nThe PGR will stand a Flag/Respect Line at the service of SPC4 Virgil Joe Cottman\, USA\, Vietnam Era Veteran. Following the service\, riders will accompany the hero and his family to Memory Lane Cemetery in Anadarko\, Ok.\n\n\nPRIMARY STAGING DETAILS: 08-30-19 \nStaging Time: 12:45 pm\n \nOklahoma Cremation Funeral Home\n2415 N. Walnut Ave.\nOklahoma City\, Oklahoma\n\n\nRide Captain: \nWes (Mac) McAtee\n405-517-6229\nMacvideo01@gmail.com\n\n\nSpecial Instructions: \nBriefing: 1:00 pm. A short briefing will take place prior to the service. Riders wishing to ride in the accompaniment must attend the briefing.\nFlag Line: 1:30 pm. Riders will stand a Flag Line for incoming family and friends.\nService: 2:00 pm.Respect Line: Riders will stand a Respect Line as the hero is transferred from the funeral home to the family car. Riders will mount up with big flag bikes leading to accompany the hero\, family and friends to Memory Lane Cemetery in Anadarko\,Ok.\nWeather: High of 87\, light wind\, partly cloudy. Please remember to hydrate before and during the mission.\n\n\nFlags & Water:\nFlags will be provided\nIf you have large bike flags\, please bring them.\nWater WILL NOT be provided\, please bring your own.\n\n\nSubmitted By: Bruce McCormick \nPosition: Oklahoma Ride Captain \n\nNote: You do not have to own/ride a motorcycle or be a veteran to join\, and membership is Free. The only requirement is RESPECT! To subscribe to receive mission notices\, log into the National Site and click on the Members tab at the top. Select the Subscribe to PGR Missions option.\n Print This Page
URL:https://www.patriotguard.org/mission/virgil-joe-cottman/
CATEGORIES:Honor Mission
END:VEVENT
END:VCALENDAR