BEGIN:VCALENDAR
VERSION:2.0
PRODID:-//Patriot Guard Riders - ECPv5.6.0//NONSGML v1.0//EN
CALSCALE:GREGORIAN
METHOD:PUBLISH
X-WR-CALNAME:Patriot Guard Riders
X-ORIGINAL-URL:https://www.patriotguard.org
X-WR-CALDESC:Events for Patriot Guard Riders
BEGIN:VTIMEZONE
TZID:America/New_York
BEGIN:DAYLIGHT
TZOFFSETFROM:-0500
TZOFFSETTO:-0400
TZNAME:EDT
DTSTART:20160313T070000
END:DAYLIGHT
BEGIN:STANDARD
TZOFFSETFROM:-0400
TZOFFSETTO:-0500
TZNAME:EST
DTSTART:20161106T060000
END:STANDARD
END:VTIMEZONE
BEGIN:VEVENT
DTSTART;TZID=America/New_York:20160810T090000
DTEND;TZID=America/New_York:20160810T110000
DTSTAMP:20210511T195939
CREATED:20160810T130000Z
LAST-MODIFIED:20191201T143723Z
UID:410033-1470819600-1470826800@www.patriotguard.org
SUMMARY:Vincent Wachter\, 92\, USA
DESCRIPTION:Vincent Wachter\, 92\nUS Army WWII Veteran\nGlen Carbon\, IL\n10 Aug 16\n\n\n\nThe Patriot Guard has been requested to stand in honor of another member of the Greatest Generation. \nVincent Wachter served with the US Army and attained the rank of SGT (E-5) while answering the call from our Great Nation during World WarII.  Vincent earned the Combat Infantryman Badge (CIB)\, and numerous other awards\, while serving in Europe following the D-Day invasion of France.  Please join us as we stand in honor and respect for this American Hero’s final call to duty.  Full military honors will be accorded during graveside services at Sunset Hills Cemetery. \nVISITATION & FUNERAL SERVICE \nDate:  Wed\, 10 Aug 16\nTime:  1100 -1300 hrs (11am-1pm) \nPlace:\nSunset Hills Funeral Home/Cemetery\n50 Fountain Dr (off IL Hwy 157)\nGlen Carbon\, IL \nStaging:  0930hrs (9:30am) at the funeral home. \nFlag line in place prior to family arrival at approx 10am. \nLine up for the short escort into the on-property cemetery as per RC instructions. \nFuneral Service is scheduled to begin at 1pm. \nTemps are forecast to increase again\, so please HYDRATE!! \nSRC\nTerry Spurgeon\n(618-830-3262) \nRC\nArne “Fat Fred” Dalhgren (w/flag support)
URL:https://www.patriotguard.org/mission/vincent-wachter-92-usa/
CATEGORIES:Archive
END:VEVENT
END:VCALENDAR