BEGIN:VCALENDAR
VERSION:2.0
PRODID:-//Patriot Guard Riders - ECPv5.3.2.1//NONSGML v1.0//EN
CALSCALE:GREGORIAN
METHOD:PUBLISH
X-WR-CALNAME:Patriot Guard Riders
X-ORIGINAL-URL:https://www.patriotguard.org
X-WR-CALDESC:Events for Patriot Guard Riders
BEGIN:VTIMEZONE
TZID:America/New_York
BEGIN:DAYLIGHT
TZOFFSETFROM:-0500
TZOFFSETTO:-0400
TZNAME:EDT
DTSTART:20190310T070000
END:DAYLIGHT
BEGIN:STANDARD
TZOFFSETFROM:-0400
TZOFFSETTO:-0500
TZNAME:EST
DTSTART:20191103T060000
END:STANDARD
END:VTIMEZONE
BEGIN:VEVENT
DTSTART;VALUE=DATE:20190906
DTEND;VALUE=DATE:20190907
DTSTAMP:20210401T125414
CREATED:20190903T010128Z
LAST-MODIFIED:20190903T010128Z
UID:172434-1567728000-1567814399@www.patriotguard.org
SUMMARY:Vietnam Wall Memorial Escort
DESCRIPTION:HOTH Mission\nVietnam Wall Memorial Escort\n–\nGrand Blanc\, Michigan – 09-06-19\n\n\n\nABOUT THE MISSION: \nThe Patriot Guard Riders have been invited to escort the traveling Vietnam Memorial Wall from Grand Blanc\, MI to Holly\, MI\, ending at the Karl Richter Community Center. This will be an 8.7 mile police led escort\, and open to all Riders. If you are participating in the escort\, you must attend the safety briefing. If you are not escorting and would like to stand a Flag Line at the community center for Escort arrival\, please feel free to do so. Detail’s in Special Instructions.\n\n\nPRIMARY STAGING DETAILS: 09-06-19 \nStaging Time: 4:30 PM\n \nHoliday Inn\n3405 Regency Park Dr.\nGrand Blanc\, Michigan 48439\nMap\n\n\nRide Captain: \nDOC\n248-854-0329\n\n\nSpecial Instructions: \nBriefing: 5:30 PM\nKSU: 6:00 PM Sharp.\nIf you are not participating in the escort and would like to stand the Flag Line for Escort arrival\, please stage at the Karl Richter Community Center at 5:30 p.m. with your flag.\nKarl Richter Community Center\, 300 East St\, Holly\, MI 48442.\nMap\n\n\nFlags & Water:\nFlags will not be provided\nLarge Bike Flags will NOT be needed.\nWater WILL NOT be provided\, please bring your own.\n\n\n\nSubmitted By: Terrence Laurencelle \nPosition: Michigan Ride Captain \n\nNote: You do not have to own/ride a motorcycle or be a veteran to join\, and membership is Free. The only requirement is RESPECT! To subscribe to receive mission notices\, log into the National Site and click on the Members tab at the top. Select the Subscribe to PGR Missions option.\n Print This Page
URL:https://www.patriotguard.org/mission/vietnam-wall-memorial-escort/
CATEGORIES:HOTH Mission
END:VEVENT
END:VCALENDAR