BEGIN:VCALENDAR
VERSION:2.0
PRODID:-//Patriot Guard Riders - ECPv5.3.2.1//NONSGML v1.0//EN
CALSCALE:GREGORIAN
METHOD:PUBLISH
X-WR-CALNAME:Patriot Guard Riders
X-ORIGINAL-URL:https://www.patriotguard.org
X-WR-CALDESC:Events for Patriot Guard Riders
BEGIN:VTIMEZONE
TZID:America/New_York
BEGIN:DAYLIGHT
TZOFFSETFROM:-0500
TZOFFSETTO:-0400
TZNAME:EDT
DTSTART:20180311T070000
END:DAYLIGHT
BEGIN:STANDARD
TZOFFSETFROM:-0400
TZOFFSETTO:-0500
TZNAME:EST
DTSTART:20181104T060000
END:STANDARD
END:VTIMEZONE
BEGIN:VEVENT
DTSTART;TZID=America/New_York:20180330T143000
DTEND;TZID=America/New_York:20180330T163000
DTSTAMP:20210402T052458
CREATED:20180330T183000Z
LAST-MODIFIED:20191201T035001Z
UID:345576-1522420200-1522427400@www.patriotguard.org
SUMMARY:Vietnam Memorial Service
DESCRIPTION:Memorial Mission \n\nVietnam Memorial Service\nEl Paso\, Texas – 30 Mar 2018\n\n\n[HR][/HR]\nABOUT THE MISSION: \n\nThe Director of Fort Bliss National Cemetery has requested the Patriot Guard Riders to stand a flag line paying respect and honoring the service of the 2\,709\,918 Americans who served in Vietnam\, the 58\,148 killed\, the 75\,000 severely disabled and the families who supported them all. \nThe ceremony will be held at Ft. Bliss National Cemetery\, 5200 Fred Wilson Ave. El Paso\, TX 79906 \nPresentation of Colors\, National Anthem\, Moment of Silence\, Remarks\, Placing of Wreaths\, “Taps”\n \n\nPRIMARY STAGING DETAILS:  30 Mar 2018\nPrimary Staging Time:  2:30 P.M. \n\nFort Bliss National Cemetery (Rostrum)\n5200 Fred Wilson Ave.\nEl Paso\, Texas – 79906\n\n\nRide Captain: \n\nVaughn Nelson\n(915) 667-9992 Cell \n\n\nSpecial Instructions: \n\nThe Patriot Guard Riders have been asked to stand a flag line during the ceremony \nMission Brief: 1445 hrs\nFlag Line: 1500 hrs. \nMission Scheduling:  Paul Lewey\, (915) 433-7000 Cell\n \n\nFlags & Water: \n\nFlags Will Be Provided\nLarge Bike Flags will NOT be needed.\nWater will be provided.\n\nSubmitted By: Vaughn Nelson\nPosition: Ride Captain\n[HR][/HR]Note:\nYou do not have to own/ride a motorcycle or be a Veteran to join and membership is Free. The only requirement is RESPECT! To join\, simply go to www.PatriotGuard.org and click on Register. Membership is Free. \nTo subscribe to receive mission notices\, log into the National Site and click on the Mission Tab at the top. Select the Subscribe to Missions option.
URL:https://www.patriotguard.org/mission/vietnam-memorial-service/
END:VEVENT
END:VCALENDAR