BEGIN:VCALENDAR
VERSION:2.0
PRODID:-//Patriot Guard Riders - ECPv5.3.2.1//NONSGML v1.0//EN
CALSCALE:GREGORIAN
METHOD:PUBLISH
X-WR-CALNAME:Patriot Guard Riders
X-ORIGINAL-URL:https://www.patriotguard.org
X-WR-CALDESC:Events for Patriot Guard Riders
BEGIN:VTIMEZONE
TZID:America/New_York
BEGIN:DAYLIGHT
TZOFFSETFROM:-0500
TZOFFSETTO:-0400
TZNAME:EDT
DTSTART:20190310T070000
END:DAYLIGHT
BEGIN:STANDARD
TZOFFSETFROM:-0400
TZOFFSETTO:-0500
TZNAME:EST
DTSTART:20191103T060000
END:STANDARD
END:VTIMEZONE
BEGIN:VEVENT
DTSTART;VALUE=DATE:20190309
DTEND;VALUE=DATE:20190310
DTSTAMP:20210406T031847
CREATED:20190305T194354Z
LAST-MODIFIED:20190305T194354Z
UID:152434-1552089600-1552175999@www.patriotguard.org
SUMMARY:Vietnam Heroes - Honor Flight
DESCRIPTION:Welcome Home\nHonor Flight\, Retired\, Veteran\nVietnam\nMenasha\, Wisconsin – 03-09-19\n\n\n\n\nABOUT THE MISSION: \nMany of our members are Vietnam veterans who serve because they were never welcomed home properly.  Many of the missions we attend are for the same reason – to pay respects for those who didn’t receive it when it was due. The wonderful folks at Old Glory Honor Flight have done something to rectify that situation by taking a plane load of Vietnam veterans back to visit the places in which they served and to see the effects of their service by visiting a country that has rebuilt itself and is most welcoming.  It’s our chance to welcome them home now in Menasha\, WI.  We will be there to welcome them back at Menasha High School Field House this Saturday\, March 9th.\n\n\nPRIMARY STAGING DETAILS: 03-09-19 \nStaging Time: 4:00 p.m.\n \nMenasha High SchoolField House\n420 7th St\, Door 15\nMenasha\, Wisconsin\n\n\nRide Captain: \nBill Jensen or Mark Goebel\, TBD\, bjensen4@att.net\,\n\n\nSpecial Instructions: \nStaging 4:00 p.m.\nFlagline in place for family\, friends and dignitaries 4:30\nDoors open 5:00\nETA for our Heroes 6:00 – 7:00\n\n\nFlags & Water:\nFlags will be provided\nLarge Bike Flags will NOT be needed.\nWater WILL NOT be provided\, please bring your own.\n\n\nSubmitted By: John Curran \nPosition: Wisconsin State Captain \n\nNote: You do not have to own/ride a motorcycle or be a veteran to join\, and membership is Free. The only requirement is RESPECT! To subscribe to receive mission notices\, log into the National Site and click on the Members tab at the top. Select the Subscribe to PGR Missions option.\n Print This Page
URL:https://www.patriotguard.org/mission/vietnam-heroes-honor-flight/
CATEGORIES:HOTH Mission
END:VEVENT
END:VCALENDAR