BEGIN:VCALENDAR
VERSION:2.0
PRODID:-//Patriot Guard Riders - ECPv5.3.2.1//NONSGML v1.0//EN
CALSCALE:GREGORIAN
METHOD:PUBLISH
X-WR-CALNAME:Patriot Guard Riders
X-ORIGINAL-URL:https://www.patriotguard.org
X-WR-CALDESC:Events for Patriot Guard Riders
BEGIN:VTIMEZONE
TZID:America/New_York
BEGIN:DAYLIGHT
TZOFFSETFROM:-0500
TZOFFSETTO:-0400
TZNAME:EDT
DTSTART:20190310T070000
END:DAYLIGHT
BEGIN:STANDARD
TZOFFSETFROM:-0400
TZOFFSETTO:-0500
TZNAME:EST
DTSTART:20191103T060000
END:STANDARD
END:VTIMEZONE
BEGIN:VEVENT
DTSTART;VALUE=DATE:20190610
DTEND;VALUE=DATE:20190611
DTSTAMP:20210405T053310
CREATED:20190607T164228Z
LAST-MODIFIED:20190607T164228Z
UID:163949-1560124800-1560211199@www.patriotguard.org
SUMMARY:Victor William Burroughs
DESCRIPTION:Honor Mission\nVictor William Burroughs\, Veteran\nUSA – Vietnam\nSt. Louis\, Missouri – 06-10-19\n\n\n\n\nABOUT THE MISSION: \nThe family of Victor W. Burroughs has requested the Patriot Guard Riders to stand a flag line of honor and respect for their hero at the hallowed grounds of Jefferson Barracks National Cemetery where he will receive full military honors.  SP/5 Burroughs proudly served his country from February 1969 to November 1971 as a Heavy Vehicle Driver.  His awards include Vietnam Service Medal\, Vietnam Campaign Medal and the National Defense Medal.  Hero Burroughs\, a grateful nation thanks you and is indebted to you for your honorable service.  Your sacrifices have granted us the freedoms we continue to enjoy to this very day. Thank you and Godspeed\n\n\nPRIMARY STAGING DETAILS: 06-10-19 \nStaging Time: 11:00 AM  \nJefferson Barracks National Cemetery\n2900 Sheridan Road\nSt. Louis\, Missouri 63125\n\n\nRide Captain: \nDan (TOP) Parnell\n314-691-8076\ndanparnell@sbcglobal.net\n\n\nSpecial Instructions: \n11:00 AM:  Staging w/ ride meeting to follow\n11:15 AM:  Family arrives\n11:25 AM:  Honor Escort to Shelter\n11:30 AM: Military Honors at Jefferson Barracks.  Weather conditions 74 degrees party cloudy.  Please hydrate much more than you believe necessary. Cages are always welcome.\nFlag Support:  Mike (Moose) Hanewinkel\n\nFlags & Water:\nFlags will be provided\nIf you have large bike flags\, please bring them.\nWater will be provided.\n\n\n\n\nSubmitted By: Dan Parnell \nPosition: Missouri Ride Captain \n\nNote: You do not have to own/ride a motorcycle or be a veteran to join\, and membership is Free. The only requirement is RESPECT! To subscribe to receive mission notices\, log into the National Site and click on the Members tab at the top. Select the Subscribe to PGR Missions option.\n Print This Page
URL:https://www.patriotguard.org/mission/victor-william-burroughs/
CATEGORIES:Honor Mission
END:VEVENT
END:VCALENDAR