BEGIN:VCALENDAR
VERSION:2.0
PRODID:-//Patriot Guard Riders - ECPv5.3.2.1//NONSGML v1.0//EN
CALSCALE:GREGORIAN
METHOD:PUBLISH
X-WR-CALNAME:Patriot Guard Riders
X-ORIGINAL-URL:https://www.patriotguard.org
X-WR-CALDESC:Events for Patriot Guard Riders
BEGIN:VTIMEZONE
TZID:America/New_York
BEGIN:DAYLIGHT
TZOFFSETFROM:-0500
TZOFFSETTO:-0400
TZNAME:EDT
DTSTART:20170312T070000
END:DAYLIGHT
BEGIN:STANDARD
TZOFFSETFROM:-0400
TZOFFSETTO:-0500
TZNAME:EST
DTSTART:20171105T060000
END:STANDARD
END:VTIMEZONE
BEGIN:VEVENT
DTSTART;TZID=America/New_York:20170420T100000
DTEND;TZID=America/New_York:20170420T120000
DTSTAMP:20210404T141536
CREATED:20170420T140000Z
LAST-MODIFIED:20191201T032307Z
UID:327208-1492682400-1492689600@www.patriotguard.org
SUMMARY:Victor Paul Baioni - 75 \, Veteran\, ARNG
DESCRIPTION:Victor Paul Baioni – 75\, Veteran \nARNG \nShaw\, Mississippi – 20 Apr 2017\n\n\n[HR][/HR] \n\n\nABOUT THE MISSION: \nThe family of Victor Paul Baioni has requested the PATRIOT GUARD RIDERS   help honor and pay tribute to him for his service to his community\, our   state and country.\nMr. Baioni honorably and proudly served in the MSARNG. He served his   community as a Board Member of the Shaw School District for 5 years\,   Bolivar County Election Commission for 13 years\, Bolivar County   Assistant Road Manager for 13 years\, Bolivar County Supervisor of   District 5 for 3 terms and was President of the Parish Council of St.   Francis of Assisi. \n\nVISITATION:  Wednesday 19 April 2017 at ST. FRANCIS OF ASSISI CATHOLIC   CHURCH; 303 Dean Blvd.; Shaw\, MS 38773 the PGR will provide a silent US   Flag line for visitation from 6:00 PM until the beginning of Rosary at   8:00 PM. \nMASS OF CHRISTIAN BURIAL:  Thursday 20 April 2017\, staging at 10:00 AM   at the church\, the PGR will provide a silent US Flag line until the   beginning of the service at 11:00 AM. \nESCORT:  Immediately following the service at the church\, the PGR will   escort Mr. Baioni to SHAW CEMETERY and provide a silent US Flag line for   the graveside service. \nPRIMARY STAGING DETAILS:  20 Apr 2017\n \n\n\n\nPrimary Staging Time:  10:00 A.M.\n\nSt. Francis of Assisi Catholic Church\n303 Dean Blvd.\n\nShaw\, Mississippi – 38773\n\n\n\n \n\n\n\nRide Captain:\n\nKim Showers\, SRC\n662.588.8130 \n\n\n\n\n\nSpecial Instructions:\n\nNOTE:  The escort distance is less than 3 miles\, large motorcycle mounted US Flags are encouraged.\nPlease join with us as we STAND FOR ONE WHO STOOD FOR US !\n\n \n\n\n\nFlags & Water:\n\nFlags Will Be Provided\n\nIf you have large bike flags\, please bring them.\n\nWater will be provided.\n\n \nSubmitted By:  Don McKibben\nPosition:  State Captain\n\n[HR][/HR]\nNote:\nYou do not have to own/ride a motorcycle or be a Veteran to join and membership is Free. The only requirement is RESPECT! To join\, simply go to www.PatriotGuard.org and click on Register. Membership is Free. \nTo subscribe to receive mission notices\, log into the National Site and   click on the Mission Tab at the top. Select Upcoming Missions by State.   Scroll to the state(s) you would like to receive notices for and click   on the green check mark. Detailed instructions are also located in the   FAQs on the site by clicking on the Quick Links Tab and selecting  FAQs.
URL:https://www.patriotguard.org/mission/victor-paul-baioni-75-veteran-arng/
LOCATION:Ronald Wells
END:VEVENT
END:VCALENDAR