BEGIN:VCALENDAR
VERSION:2.0
PRODID:-//Patriot Guard Riders - ECPv5.3.2.1//NONSGML v1.0//EN
CALSCALE:GREGORIAN
METHOD:PUBLISH
X-WR-CALNAME:Patriot Guard Riders
X-ORIGINAL-URL:https://www.patriotguard.org
X-WR-CALDESC:Events for Patriot Guard Riders
BEGIN:VTIMEZONE
TZID:America/New_York
BEGIN:DAYLIGHT
TZOFFSETFROM:-0500
TZOFFSETTO:-0400
TZNAME:EDT
DTSTART:20190310T070000
END:DAYLIGHT
BEGIN:STANDARD
TZOFFSETFROM:-0400
TZOFFSETTO:-0500
TZNAME:EST
DTSTART:20191103T060000
END:STANDARD
END:VTIMEZONE
BEGIN:VEVENT
DTSTART;VALUE=DATE:20190622
DTEND;VALUE=DATE:20190623
DTSTAMP:20210405T070559
CREATED:20190619T194958Z
LAST-MODIFIED:20190619T194958Z
UID:165260-1561161600-1561247999@www.patriotguard.org
SUMMARY:Victor D. Hamilton
DESCRIPTION:Memorial\nVictor D. Hamilton\, Veteran\nUSA\nMosier\, Oregon – 06-22-19\n\n\n\nABOUT THE MISSION: \nThe Patriot Guard Riders have been requested to stand the line for Victor D. Hamilton 76. Mr Hamilton SP4 (E-4) served with the United States Army from March 1962 through February 1968. He completed USATC Armor School as a Track Vehicle Mechanic in Ft Knox KY from June 1962 to October that same year. That was followed by 3 1/2 years in Germany. Victor received the M-14 Expert Rifle medal and the Army of Occupation Medal for his time in Berlin. Mr. Hamilton retired after 45 years with SDS Lumber Company. He also was a member of the Mosier Volunteer Fire Department. Including 25 years as the Mosier Fire Chief. Victor Hamilton\, your Military and 1st Responder service to the Nation and your Community are much appreciated. Thank you for a job well done.\n\n\nPRIMARY STAGING DETAILS: 06-22-19 \nStaging Time: 12:30 pm\n \nMosier Community School\n1204 1st Ave\nMosier\, Oregon 97040\n\nMap\n\n\nRide Captain: \nRod Runyon\n541-993-6413\nreckless.1@hotmail.com\n\n\nSpecial Instructions: \n12:50pm Briefing\n1:00pm Flag Line\n2:00pm Service\n2:05 Dismissal\n\nWe hope to stage\, if there is room\, along Hwy 30 in front of the grass field in front of the school. If there is no room to back in along Hwy 30 1st Av. then we will stage at the back of the school on 3rd Avenue.\n\n\nFlags & Water:\n\n\nFlags will not be provided\nIf you have large bike flags\, please bring them.\nWater WILL NOT be provided\, please bring your own.\n\n\nSubmitted By: John Hanan II \nPosition: Oregon State Captain \n\nNote: You do not have to own/ride a motorcycle or be a veteran to join\, and membership is Free. The only requirement is RESPECT! To subscribe to receive mission notices\, log into the National Site and click on the Members tab at the top. Select the Subscribe to PGR Missions option.\n Print This Page
URL:https://www.patriotguard.org/mission/victor-d-hamilton/
CATEGORIES:Memorial
END:VEVENT
END:VCALENDAR