BEGIN:VCALENDAR
VERSION:2.0
PRODID:-//Patriot Guard Riders - ECPv5.6.0//NONSGML v1.0//EN
CALSCALE:GREGORIAN
METHOD:PUBLISH
X-WR-CALNAME:Patriot Guard Riders
X-ORIGINAL-URL:https://www.patriotguard.org
X-WR-CALDESC:Events for Patriot Guard Riders
BEGIN:VTIMEZONE
TZID:America/New_York
BEGIN:DAYLIGHT
TZOFFSETFROM:-0500
TZOFFSETTO:-0400
TZNAME:EDT
DTSTART:20160313T070000
END:DAYLIGHT
BEGIN:STANDARD
TZOFFSETFROM:-0400
TZOFFSETTO:-0500
TZNAME:EST
DTSTART:20161106T060000
END:STANDARD
END:VTIMEZONE
BEGIN:VEVENT
DTSTART;TZID=America/New_York:20160804T090000
DTEND;TZID=America/New_York:20160804T110000
DTSTAMP:20210512T024414
CREATED:20160804T130000Z
LAST-MODIFIED:20191201T143856Z
UID:410174-1470301200-1470308400@www.patriotguard.org
SUMMARY:Victor A. LeCorno\, 89\, USNR
DESCRIPTION:The family of Victor A. LeCorno\, 89\, USNR have asked the Patriot Guard Riders to stand in Honor of their loved one. \nHero LeCorno served his country honorably during WWll from May 1\, 1944 – March 2\, 1948. \nThis will be a Memorial Service Flag Line mission only. \nDate: Thursday\, August 4th\, 2016 \nStage: 5:30 pm\nBriefing: 5:45 pm\nPlace: VFW Post 2442\nVFW Road\nEldon\, MO \nFrom Hwy. 54\nTake the Eldon / Tuscumbia exit.\nTurn left if coming from the South. Turn right if coming from the North.\nGo 1 mile and look for the VFW sign on the right side of the road.\nVFW Road is on the left side of the road.\nTurn left on VFW Road.\nGo .4 of a mile. VFW on left. \nWeather: 96 Degrees\, Partly Cloudy. \nBe sure to Hydrate\, Hydrate\, Hydrate!!!! \nPOC:  Ron Richards\nronrichards.1948@gmail.com\n417-793-9114
URL:https://www.patriotguard.org/mission/victor-a-lecorno-89-usnr/
CATEGORIES:Archive
END:VEVENT
END:VCALENDAR