BEGIN:VCALENDAR
VERSION:2.0
PRODID:-//Patriot Guard Riders - ECPv5.3.2.1//NONSGML v1.0//EN
CALSCALE:GREGORIAN
METHOD:PUBLISH
X-WR-CALNAME:Patriot Guard Riders
X-ORIGINAL-URL:https://www.patriotguard.org
X-WR-CALDESC:Events for Patriot Guard Riders
BEGIN:VTIMEZONE
TZID:America/New_York
BEGIN:DAYLIGHT
TZOFFSETFROM:-0500
TZOFFSETTO:-0400
TZNAME:EDT
DTSTART:20170312T070000
END:DAYLIGHT
BEGIN:STANDARD
TZOFFSETFROM:-0400
TZOFFSETTO:-0500
TZNAME:EST
DTSTART:20171105T060000
END:STANDARD
END:VTIMEZONE
BEGIN:VEVENT
DTSTART;TZID=America/New_York:20171104T111500
DTEND;TZID=America/New_York:20171104T131500
DTSTAMP:20210403T042246
CREATED:20171104T151500Z
LAST-MODIFIED:20191201T033323Z
UID:334978-1509794100-1509801300@www.patriotguard.org
SUMMARY:Veterans Day Parade - Syracuse\, NY
DESCRIPTION:Veterans Day Parade – Syracuse\, NY \nSyracuse\, New York – 04 Nov 2017\n\n\n[HR][/HR]\nABOUT THE MISSION: \n\nThe Patriot Guard has once again been invited to participate in the Veteran’s Day Parade at the NYS Fairgrounds. We will join the other organizations in this event to honor all who have worn the uniform in service to our great country.\n\n\nPRIMARY STAGING DETAILS: 04 Nov 2017\nPrimary Staging Time: 11:15 A.M. \n\nNYS Fairgrounds\nGate 6\nI-690\nSyracuse\, New York – 13209\nhttps://goo.gl/maps/iKDh7oRhzPE2\n\n\nRide Captain: \n\nBruce Dauer\nbrdauer@gmail.com\n315-699-8272\n\n\nSpecial Instructions: \n\nEnter the Fairgrounds at Gate #6\, go around to Gate #10\, there will be marshals on hand to point people in the right direction. We will stage at Red #8 ( numbers will be in red )\n\n\nFlags & Water: \n\nFlags Will NOT Be Provided\, Please Bring Your Own.\nIf you have large bike flags\, please bring them.\nWater WILL NOT be provided\, please bring your own.\n\n\nSubmitted By: Ray Sestak\nPosition: Ride Captain\n[HR][/HR]Note:\nYou do not have to own/ride a motorcycle or be a Veteran to join and membership is Free. The only requirement is RESPECT! To join\, simply go to www.PatriotGuard.org and click on Register. Membership is Free. \nTo subscribe to receive mission notices\, log into the National Site and click on the Mission Tab at the top. Select the Subscribe to Missionsoption.
URL:https://www.patriotguard.org/mission/veterans-day-parade-syracuse-ny/
END:VEVENT
END:VCALENDAR