BEGIN:VCALENDAR
VERSION:2.0
PRODID:-//Patriot Guard Riders - ECPv5.3.2.1//NONSGML v1.0//EN
CALSCALE:GREGORIAN
METHOD:PUBLISH
X-WR-CALNAME:Patriot Guard Riders
X-ORIGINAL-URL:https://www.patriotguard.org
X-WR-CALDESC:Events for Patriot Guard Riders
BEGIN:VTIMEZONE
TZID:America/New_York
BEGIN:DAYLIGHT
TZOFFSETFROM:-0500
TZOFFSETTO:-0400
TZNAME:EDT
DTSTART:20180311T070000
END:DAYLIGHT
BEGIN:STANDARD
TZOFFSETFROM:-0400
TZOFFSETTO:-0500
TZNAME:EST
DTSTART:20181104T060000
END:STANDARD
END:VTIMEZONE
BEGIN:VEVENT
DTSTART;VALUE=DATE:20181111
DTEND;VALUE=DATE:20181112
DTSTAMP:20210404T094229
CREATED:20181108T141345Z
LAST-MODIFIED:20181108T141345Z
UID:139955-1541894400-1541980799@www.patriotguard.org
SUMMARY:Veterans Day Parade
DESCRIPTION:HOTH Mission\nVeterans Day Parade\nMagna\, Utah – 11-11-18\n\n\n\nABOUT THE MISSION:\n\nThe Patriot Guard Riders have been requested to participate in the Magna Veterans Day Parade.  The parade will start at the LDS church on 3084 S 8400 W in Magna at 11:00 AM on Sunday\, November 11\, 2018.\n\n\nPRIMARY STAGING DETAILS: 11-11-18 \nStaging Time: 10:15 a.m. \nLDS church\n3084 S 8400 W\nMagna\, Utah\n\n\nRide Captain: \nBrian Schiele\n801-530-9569\n\n\nSpecial Instructions: \nKSU: 11:00 AM\n\nWeather: Sunny with a high of 47.\n\nWe will participate in the parade by riding and/or walking. The entire route is less than a mile.  Anyone attending in a cage and willing to transport flags please contact Brian Schiele at: 801-530-9569.\n\n\nFlags & Water:\nFlags will be provided\nIf you have large bike flags\, please bring them.\nWater WILL NOT be provided\, please bring your own.\n\n\n  \n\n\nSubmitted By: Dave Richardson \nPosition: Utah State Captain \n\nNote: You do not have to own/ride a motorcycle or be a veteran to join\, and membership is Free. The only requirement is RESPECT! To subscribe to receive mission notices\, log into the National Site and click on the Members tab at the top. Select the Subscribe to PGR Missions option.\n Print This Page
URL:https://www.patriotguard.org/mission/veterans-day-parade-18/
CATEGORIES:HOTH Mission
END:VEVENT
END:VCALENDAR