BEGIN:VCALENDAR
VERSION:2.0
PRODID:-//Patriot Guard Riders - ECPv5.3.2.1//NONSGML v1.0//EN
CALSCALE:GREGORIAN
METHOD:PUBLISH
X-WR-CALNAME:Patriot Guard Riders
X-ORIGINAL-URL:https://www.patriotguard.org
X-WR-CALDESC:Events for Patriot Guard Riders
BEGIN:VTIMEZONE
TZID:America/New_York
BEGIN:DAYLIGHT
TZOFFSETFROM:-0500
TZOFFSETTO:-0400
TZNAME:EDT
DTSTART:20190310T070000
END:DAYLIGHT
BEGIN:STANDARD
TZOFFSETFROM:-0400
TZOFFSETTO:-0500
TZNAME:EST
DTSTART:20191103T060000
END:STANDARD
END:VTIMEZONE
BEGIN:VEVENT
DTSTART;VALUE=DATE:20190920
DTEND;VALUE=DATE:20190921
DTSTAMP:20210401T092309
CREATED:20190916T175156Z
LAST-MODIFIED:20190916T175156Z
UID:174251-1568937600-1569023999@www.patriotguard.org
SUMMARY:Vernon Nolan Ireton
DESCRIPTION:Honor Mission\nVernon Nolan Ireton\, Veteran\nUSMC\, USN\nSpringfield\, Missouri – 09-20-19\n\n\n\nABOUT THE MISSION: \nThe Patriot Guard Riders will escort Vernon Nolan Ireton from the Greenlawn South Funeral Home to our hero’s final resting place at the Missouri Veterans Cemetery\, Springfield\, MO and there will stand a flag line where full military honors will be rendered.\nHero Ireton proudly and honorably served our country from January 1972 to September 1978 in both the USMC as a Lance Corporal\, Combat Engineer assigned to the 8th Engineering Battalion\, and in the USN as a Builder Petty Officer 3rd Class. He later served in the Army National Guard but we have no records for this service. He was awarded the National Defense Service Medal as a Marine and the M-16 Rifle Marksman Award as a naval NCO. His naval time included 2 yrs. and 4 mos. foreign service.\n\n\nPRIMARY STAGING DETAILS: 09-20-19 \nStaging Time: 11:45 am\n \nGreenlawn South FH\n441 W. Battlefield\nSpringfield\, Missouri 65807\n\n\nRide Captain: \nSteve Simko\n(210) 621-8623\ncsdsimko@sbcglobal.net\n\n\nSpecial Instructions: \nSTAGE: 11:45 am\nBRIEF:  12:00 pm\nESCORT: 12:30 pm\nCOMMITTAL: 1:00 pm\nWEATHER FORECAST: 84 deg.\, winds at 11 mph\, and 21% chance of rain.\n\n\nFlags & Water:\nFlags will be provided\nIf you have large bike flags\, please bring them.\nWater WILL NOT be provided\, please bring your own.\n\n\nSubmitted By: steve simko \nPosition: Missouri Ride Captain \n\nNote: You do not have to own/ride a motorcycle or be a veteran to join\, and membership is Free. The only requirement is RESPECT! To subscribe to receive mission notices\, log into the National Site and click on the Members tab at the top. Select the Subscribe to PGR Missions option.\n Print This Page
URL:https://www.patriotguard.org/mission/vernon-nolan-ireton/
CATEGORIES:Honor Mission
END:VEVENT
END:VCALENDAR