BEGIN:VCALENDAR
VERSION:2.0
PRODID:-//Patriot Guard Riders - ECPv5.3.2.1//NONSGML v1.0//EN
CALSCALE:GREGORIAN
METHOD:PUBLISH
X-WR-CALNAME:Patriot Guard Riders
X-ORIGINAL-URL:https://www.patriotguard.org
X-WR-CALDESC:Events for Patriot Guard Riders
BEGIN:VTIMEZONE
TZID:America/New_York
BEGIN:DAYLIGHT
TZOFFSETFROM:-0500
TZOFFSETTO:-0400
TZNAME:EDT
DTSTART:20190310T070000
END:DAYLIGHT
BEGIN:STANDARD
TZOFFSETFROM:-0400
TZOFFSETTO:-0500
TZNAME:EST
DTSTART:20191103T060000
END:STANDARD
END:VTIMEZONE
BEGIN:VEVENT
DTSTART;VALUE=DATE:20190822
DTEND;VALUE=DATE:20190823
DTSTAMP:20210402T152747
CREATED:20190821T191224Z
LAST-MODIFIED:20190821T191224Z
UID:171541-1566432000-1566518399@www.patriotguard.org
SUMMARY:Vernon F. Stockton
DESCRIPTION:Honor Mission\nVernon F. Stockton\, Veteran\nUSA – Korea\nSt. Louis\, Missouri – 08-22-19\n\n\n\nABOUT THE MISSION: \nLadies and Gentlemen of the Patriot Guard Riders\, please join us in standing for Vernon Stockton\, just as he once stood for every one of us. Hero Stockton served in the United States Army from 1951 thru 1953. Mr. Stockton earned the rank of Corporal\, and also achieved numerous awards including the Korean Service Medal w/ 3 Bronze Stars\, the United Nation Service Medal\, Combat Infantry Badge\, and the Army Occupation Medal (Japan).\n\n\nPRIMARY STAGING DETAILS: 08-22-19 \nStaging Time: 10:45 AM\n \nZiegenhein Funeral Home – South County4\n830 Lemay Ferry Road\nSt. Louis\, Missouri 63129\n\n\nRide Captain: \nJeff ‘Tattoo’ Hirsch\njeff.stlpgr@gmail.com\n314.210.6307\n\n\nSpecial Instructions: \n10:45 – Staging w/ ride meeting to follow.\n11:00 – Family arrival.\n11:10 – Honor escort (5 miles) to Jefferson Barracks National Cemetery.\n11:30 – Military Honors.\nFlags – TBD\n\n\nFlags & Water:\nFlags will be provided\nIf you have large bike flags\, please bring them.\nWater will be provided.\n\n\n\nSubmitted By: Jeff Hirsch \nPosition: Missouri Ride Captain \n\nNote: You do not have to own/ride a motorcycle or be a veteran to join\, and membership is Free. The only requirement is RESPECT! To subscribe to receive mission notices\, log into the National Site and click on the Members tab at the top. Select the Subscribe to PGR Missions option.\n Print This Page
URL:https://www.patriotguard.org/mission/vernon-f-stockton/
CATEGORIES:Honor Mission
END:VEVENT
END:VCALENDAR