BEGIN:VCALENDAR
VERSION:2.0
PRODID:-//Patriot Guard Riders - ECPv5.3.2.1//NONSGML v1.0//EN
CALSCALE:GREGORIAN
METHOD:PUBLISH
X-WR-CALNAME:Patriot Guard Riders
X-ORIGINAL-URL:https://www.patriotguard.org
X-WR-CALDESC:Events for Patriot Guard Riders
BEGIN:VTIMEZONE
TZID:America/New_York
BEGIN:DAYLIGHT
TZOFFSETFROM:-0500
TZOFFSETTO:-0400
TZNAME:EDT
DTSTART:20190310T070000
END:DAYLIGHT
BEGIN:STANDARD
TZOFFSETFROM:-0400
TZOFFSETTO:-0500
TZNAME:EST
DTSTART:20191103T060000
END:STANDARD
END:VTIMEZONE
BEGIN:VEVENT
DTSTART;VALUE=DATE:20190715
DTEND;VALUE=DATE:20190716
DTSTAMP:20210403T193754
CREATED:20190713T210654Z
LAST-MODIFIED:20190713T210731Z
UID:167545-1563148800-1563235199@www.patriotguard.org
SUMMARY:Vernon Busby
DESCRIPTION:Honor Mission\nVernon Busby\, Veteran\nUSA – Korea\nTuscaloosa\, Alabama – 07-15-19\n\n\n\nABOUT THE MISSION: \nIt is with heavy heart that I must inform you that America has lost another True American Hero. The family of Vernon Busby has requested the Patriot Guard to stand a flag line and ride in honor of their loved one. Those we lose don’t go away. They walk beside us every day unseen\, unheard\, but always near so loved\, so missed\, so very dear. May the Lord bless and keep these true heroes.\n\n\nPRIMARY STAGING DETAILS: 07-15-19 \nStaging Time: 09:30 AM\n \nHolden Church of the Nazarene\n4401 17th St NE\nTuscaloosa\, Alabama 35404\n\n\nRide Captain: \nJeff Jolly\njollygssr@yahoo.com\n205-233-2497\n\n\nSpecial Instructions: \nStaging: 9:30 for family arrival.\nVisitation: 10:00\nService: 11:00\nEscort to Memory Hill Gardens following Service.\nPlease dress for the weather\n\n\nFlags & Water:\nFlags will be provided\nIf you have large bike flags\, please bring them.\nWater WILL NOT be provided\, please bring your own.\n\nSTAGING #2 DETAILS: 07-15-19 \nStaging Time: 12:00 PM\n \nMemory Hill Gardens\n2200 Skyland Blvd\nTuscaloosa\, Alabama 35405\n\n\nRide Captain: \nJeff Jolly\njollygssr@yahoo.com\n205-233-2497\n\n\nSpecial Instructions: \nStage for internment @ 12:00.\nDress for the weather\n\n\nFlags & Water:\nFlags will be provided\nIf you have large bike flags\, please bring them.\nWater WILL NOT be provided\, please bring your own.\n\n\n\nSubmitted By: Russell Dean Padgett \nPosition: Alabama Ride Captain \n\nNote: You do not have to own/ride a motorcycle or be a veteran to join\, and membership is Free. The only requirement is RESPECT! To subscribe to receive mission notices\, log into the National Site and click on the Members tab at the top. Select the Subscribe to PGR Missions option.\n Print This Page
URL:https://www.patriotguard.org/mission/vernon-busby/
CATEGORIES:Honor Mission
END:VEVENT
END:VCALENDAR