BEGIN:VCALENDAR
VERSION:2.0
PRODID:-//Patriot Guard Riders - ECPv5.3.2.1//NONSGML v1.0//EN
CALSCALE:GREGORIAN
METHOD:PUBLISH
X-WR-CALNAME:Patriot Guard Riders
X-ORIGINAL-URL:https://www.patriotguard.org
X-WR-CALDESC:Events for Patriot Guard Riders
BEGIN:VTIMEZONE
TZID:America/New_York
BEGIN:DAYLIGHT
TZOFFSETFROM:-0500
TZOFFSETTO:-0400
TZNAME:EDT
DTSTART:20190310T070000
END:DAYLIGHT
BEGIN:STANDARD
TZOFFSETFROM:-0400
TZOFFSETTO:-0500
TZNAME:EST
DTSTART:20191103T060000
END:STANDARD
END:VTIMEZONE
BEGIN:VEVENT
DTSTART;TZID=America/New_York:20190609T000000
DTEND;TZID=America/New_York:20190610T000000
DTSTAMP:20210405T005345
CREATED:20190606T205417Z
LAST-MODIFIED:20190606T210116Z
UID:163829-1560038400-1560124800@www.patriotguard.org
SUMMARY:Van Gentry Harris Sr.
DESCRIPTION:Honor Mission\nVan Gentry Harris Sr.\, Veteran\nUSA\nBoonville\, Missouri – 06-09 and 10-19\n\n\n\n\nABOUT THE MISSION: \nThe family of Van Gentry Harris Sr. has honored the Patriot Guard Riders with a request to stand a silent flag line for his visitation and services.  Mr. Harris joined the Army in 1946 where he ended up in France and Germany during the occupation after World War II.  Van became very active in Veteran organizations. He was a member of many groups around his community including the American Legion\, 40 & 8\, Odd Fellas\, and the VFW.  He served as commander of Boonville Post #4072 VFW for several years.\n\n\nPRIMARY STAGING DETAILS: 06-09-19 \nStaging Time: 2:30 pm \nHoward Funeral Home\n1397 W Ashley Road\nBoonville\, Missouri 65233\n\n\nRide Captain: \nDavid Bledsoe\ndevldog624@gmail.com\n660-473-2038\n\n\nSpecial Instructions: \nStaging:  2:30 pm\nVisitation: 3:00 – 5:00 pm\n\nFlags & Water:\nFlags will be provided\nLarge Bike Flags will NOT be needed.\nWater WILL NOT be provided\, please bring your own.\n\nSTAGING #2 DETAILS: 06-10-19 \nStaging Time: 10:30 am \nHoward Funeral Home\n1397 W Ashley Road\nBoonville\, Missouri 65233\n\n\nRide Captain: \nDavid Wallingford\n           twocreeksholler@yahoo.com\n           573-569-1989\n\n\nSpecial Instructions: \nStaging: 10:30 am\nService:  11:00 am\nEscort to Old Lamine Cemetery to follow services where our hero will be laid to rest with full military honors.  Weather at this time is predicted to be good.  75* for the high with no rain.\n\nFlags & Water:\nFlags will be provided\nIf you have large bike flags\, please bring them.\nWater will be provided.\n\n\n\nSubmitted By: David Wallingford \nPosition: Missouri Ride Captain \n\nNote: You do not have to own/ride a motorcycle or be a veteran to join\, and membership is Free. The only requirement is RESPECT! To subscribe to receive mission notices\, log into the National Site and click on the Members tab at the top. Select the Subscribe to PGR Missions option.\n Print This Page
URL:https://www.patriotguard.org/mission/van-gentry-harris-sr/
CATEGORIES:Honor Mission
END:VEVENT
END:VCALENDAR