BEGIN:VCALENDAR
VERSION:2.0
PRODID:-//Patriot Guard Riders - ECPv5.3.2.1//NONSGML v1.0//EN
CALSCALE:GREGORIAN
METHOD:PUBLISH
X-WR-CALNAME:Patriot Guard Riders
X-ORIGINAL-URL:https://www.patriotguard.org
X-WR-CALDESC:Events for Patriot Guard Riders
BEGIN:VTIMEZONE
TZID:America/New_York
BEGIN:DAYLIGHT
TZOFFSETFROM:-0500
TZOFFSETTO:-0400
TZNAME:EDT
DTSTART:20180311T070000
END:DAYLIGHT
BEGIN:STANDARD
TZOFFSETFROM:-0400
TZOFFSETTO:-0500
TZNAME:EST
DTSTART:20181104T060000
END:STANDARD
END:VTIMEZONE
BEGIN:VEVENT
DTSTART;TZID=America/New_York:20180521T153000
DTEND;TZID=America/New_York:20180521T173000
DTSTAMP:20210402T022505
CREATED:20180521T193000Z
LAST-MODIFIED:20200618T123602Z
UID:305191-1526916600-1526923800@www.patriotguard.org
SUMMARY:Utah Honor Flight Welcome Home
DESCRIPTION:HOTH Mission\nUtah Honor Flight Welcome Home\nSLC\, Utah – 21 May 2018\n\n\nABOUT THE MISSION: \nThe Patriot Guard Riders have been requested to stand a flag line for the Utah Honor Flight.\nPRIMARY STAGING DETAILS: 21 May 2018\nPrimary Staging Time: 03:30 P.M. \nUtah National Guard Armory\n1640 N 2200 W\nSLC\, Utah –\nRide Captain: \nRuss Smith\n801-450-8317\nSpecial Instructions: \n\nThe escort will take place at the Salt Lake International Airport in Salt Lake at 5:00 PM on Monday\, May 21\, 2018. We will stand a flag line at the Salt Lake International Airport while the WWII heroes board the buses.If at all possible\, please attend. Bring your friends and family. It is an experience they will never forget. This is a great time to honor our nation’s heroes. Cages (cars) are very welcome. \nPlease Note: This will not be an escort. We will be doing a flag line  then anyone that wants to attend the ceremony afterwards can meet up at the Box Elder Fair Grounds in Tremonton. \nThank you to all that serve(d) and protect(ed) this great nation. \nAnyone attending in a cage and willing to transport the flags please contact Russ Smith at: 801-450-8317. \nKSU: 4:00 PM \nWeather: mostly cloudy with a 20% chance of showers and a high of 78. Please dress accordingly and keep yourself hydrated. \n\nFlags & Water: \nFlags Will Be Provided\nLarge Bike Flags will NOT be needed.\nWater WILL NOT be provided\, please bring your own.\n  \n\nSubmitted By: Dave Richardson\nPosition: State Captain\n \n\nNote:\nYou do not have to own/ride a motorcycle or be a Veteran to join and membership is Free. The only requirement is RESPECT! To join\, simply go to www.PatriotGuard.org and click on Register. Membership is Free. \nTo subscribe to receive mission notices\, log into the National Site and click on the Mission Tab at the top. Select the Subscribe to Missions option.
URL:https://www.patriotguard.org/mission/utah-honor-flight-welcome-home-9/
CATEGORIES:HOTH Mission
END:VEVENT
END:VCALENDAR