BEGIN:VCALENDAR
VERSION:2.0
PRODID:-//Patriot Guard Riders - ECPv5.3.2.1//NONSGML v1.0//EN
CALSCALE:GREGORIAN
METHOD:PUBLISH
X-WR-CALNAME:Patriot Guard Riders
X-ORIGINAL-URL:https://www.patriotguard.org
X-WR-CALDESC:Events for Patriot Guard Riders
BEGIN:VTIMEZONE
TZID:America/New_York
BEGIN:DAYLIGHT
TZOFFSETFROM:-0500
TZOFFSETTO:-0400
TZNAME:EDT
DTSTART:20190310T070000
END:DAYLIGHT
BEGIN:STANDARD
TZOFFSETFROM:-0400
TZOFFSETTO:-0500
TZNAME:EST
DTSTART:20191103T060000
END:STANDARD
END:VTIMEZONE
BEGIN:VEVENT
DTSTART;VALUE=DATE:20190823
DTEND;VALUE=DATE:20190824
DTSTAMP:20210402T065613
CREATED:20190820T195514Z
LAST-MODIFIED:20190820T195623Z
UID:171398-1566518400-1566604799@www.patriotguard.org
SUMMARY:USS Avenger (MCM-1) Plankowner Reunion
DESCRIPTION:HOTH Mission\nUSS Avenger (MCM-1) Plankowner Reunion\nMt Pleasant\, South Carolina – 08-23-19\n\n\n\nABOUT THE MISSION: \nThe USS Avenger (MCM-1) original commissioning crew (Plankowners) is having their first reunion in Mount Pleasant\, SC. Thirty-one years ago\, the USS Avenger was commissioned and was first homeported in Charleston\, SC. The Plankowners’ reunion is set to take place aboard the USS Yorktown at Patriots Point in Mount Pleasant. In August 1990\, the USS Avenger deployed to the Persian Gulf in support of Desert Shield and Desert Storm and became the longest-serving ship in the conflict.\n\n\nPRIMARY STAGING DETAILS: 08-23-19 \nStaging Time: 9:00 am  \nWyndham Garden Charleston Mount Pleasant\n1330 Stuart Engals Blvd\nMt Pleasant\, South Carolina 29464-5086\nhttps://goo.gl/maps/PkngGadYgRKLUhk39\n\n\nRide Captain: \nHarold Murray\nhgsmurraybiz@outlook.com\n843-822-6899\n\nFlag Wagon:\nDave Dence\nbadtaddad@comcast.net\n843-270-8485\n\n\nSpecial Instructions: \nBriefing: 0930 (9:30am)\nKSU: 1030 (10:30am)\nAfter the briefing\, we will prepare to escort the USS Avenger Plankowners from their hotel in Mount Pleasant to Patriots Point Naval & Maritime Museum (approximately 4.5 miles).Anyone not participating in the escort can go directly to the Patriots Point – please arrive by 9:45 AM. Once the procession arrives\, PGR members will form a flag line at the entrance leading to the USS Yorktown to honor the group as they pass. Once the USS Avenger Plankowners have passed\, we will stand down and depart.\n\n\nFlags & Water:\nFlags will be provided\nIf you have large bike flags\, please bring them.\nWater will be provided.\n\nSubmitted By: Ray Richards \nPosition: South Carolina Assistant State Captain \n\nNote: You do not have to own/ride a motorcycle or be a veteran to join\, and membership is Free. The only requirement is RESPECT! To subscribe to receive mission notices\, log into the National Site and click on the Members tab at the top. Select the Subscribe to PGR Missions option.\n Print This Page
URL:https://www.patriotguard.org/mission/uss-avenger-mcm-1-plankowner-reunion/
CATEGORIES:HOTH Mission
END:VEVENT
END:VCALENDAR