BEGIN:VCALENDAR
VERSION:2.0
PRODID:-//Patriot Guard Riders - ECPv5.3.2.1//NONSGML v1.0//EN
CALSCALE:GREGORIAN
METHOD:PUBLISH
X-WR-CALNAME:Patriot Guard Riders
X-ORIGINAL-URL:https://www.patriotguard.org
X-WR-CALDESC:Events for Patriot Guard Riders
BEGIN:VTIMEZONE
TZID:America/New_York
BEGIN:DAYLIGHT
TZOFFSETFROM:-0500
TZOFFSETTO:-0400
TZNAME:EDT
DTSTART:20190310T070000
END:DAYLIGHT
BEGIN:STANDARD
TZOFFSETFROM:-0400
TZOFFSETTO:-0500
TZNAME:EST
DTSTART:20191103T060000
END:STANDARD
END:VTIMEZONE
BEGIN:VEVENT
DTSTART;VALUE=DATE:20190629
DTEND;VALUE=DATE:20190630
DTSTAMP:20210405T041142
CREATED:20190626T172333Z
LAST-MODIFIED:20190626T172333Z
UID:165756-1561766400-1561852799@www.patriotguard.org
SUMMARY:US Army National Guard Sendoff
DESCRIPTION:HOTH Mission\nUS Army National Guard Sendoff\nARNG –\nPascagoula\, Mississippi – 06-29-19\n\n\n\nABOUT THE MISSION: \nThe Patriot Guard will participate in a send-off for a US Army National Guard Unit hosted by the City of Pascagoula. This unit will deploy to other areas in support of the War on Terror. Due to OPSEC concerns\, more information will be given at briefing.\n\n\nPRIMARY STAGING DETAILS: 06-29-19 \nStaging Time: 08:45 AM\n \nMississippi Armory\n2802 Shortcut Road\nPascagoula\, Mississippi\n\n\nRide Captain: \nSteve Rancier\n228-623-2648\n\n\nSpecial Instructions: \n9am: Safety briefing.\n9:30 am: Escort to the National Guard Base in Gulfport.\nNote: No bike flags\, as part of the escort will be on the interstate.\n\n\nFlags & Water:\nFlags will not be provided\nLarge Bike Flags will NOT be needed.\nWater WILL NOT be provided\, please bring your own.\n\n\n\nSubmitted By: Sandie Schlett \nPosition: Mississippi Assistant State Captain \n\nNote: You do not have to own/ride a motorcycle or be a veteran to join\, and membership is Free. The only requirement is RESPECT! To subscribe to receive mission notices\, log into the National Site and click on the Members tab at the top. Select the Subscribe to PGR Missions option.\n Print This Page
URL:https://www.patriotguard.org/mission/us-army-national-guard-sendoff/
CATEGORIES:HOTH Mission
END:VEVENT
END:VCALENDAR