BEGIN:VCALENDAR
VERSION:2.0
PRODID:-//Patriot Guard Riders - ECPv5.3.2.1//NONSGML v1.0//EN
CALSCALE:GREGORIAN
METHOD:PUBLISH
X-WR-CALNAME:Patriot Guard Riders
X-ORIGINAL-URL:https://www.patriotguard.org
X-WR-CALDESC:Events for Patriot Guard Riders
BEGIN:VTIMEZONE
TZID:America/New_York
BEGIN:DAYLIGHT
TZOFFSETFROM:-0500
TZOFFSETTO:-0400
TZNAME:EDT
DTSTART:20190310T070000
END:DAYLIGHT
BEGIN:STANDARD
TZOFFSETFROM:-0400
TZOFFSETTO:-0500
TZNAME:EST
DTSTART:20191103T060000
END:STANDARD
END:VTIMEZONE
BEGIN:VEVENT
DTSTART;VALUE=DATE:20190528
DTEND;VALUE=DATE:20190529
DTSTAMP:20210405T032904
CREATED:20190526T232305Z
LAST-MODIFIED:20190526T232305Z
UID:162271-1559001600-1559087999@www.patriotguard.org
SUMMARY:Ursulo C. Tavares
DESCRIPTION:Honor Mission\nUrsulo C. Tavares\, Veteran\nUSA – WWII\nEl Paso\, Texas – 05-28-19\n\n\n \n\nABOUT THE MISSION: \nThe family of PFC Ursulo C. Tavares has requested the Patriot Guard Riders to render honors for his interment.  PFC Tavares was a part of the invasion of the Ryukyu Islands also known as the Battle of Okinawa where the largest battle of WWII took place. During his tour of duty PFC Tavares was awarded the Combat Infantryman Badge\, the Asiatic-Pacific Campaign Medal\, Victory Medal\, Philippine Liberation Ribbon and the Purple Heart.\n\n\nPRIMARY STAGING DETAILS: 05-28-19 \nStaging Time: 12:30 PM\n \nHillcrest Funeral Home – East\n1060 N. Carolina Drive\nEl Paso\, Texas 79915\n\n\nRide Captain: \nVaughn Nelson\nfwtpgrmissions@gmail.com\n(915) 667-9992 Cell\n\n\nSpecial Instructions: \nBriefing: 12:40 pm\nKSU: 12:50 pm\nEscort from Hillcrest Funeral Home to Our Lady of Sorrows Catholic Church for a funeral mass.\nAll Times are Approximate with EPPD escort service.\n\nFlags & Water:\nFlags will be provided\nIf you have large bike flags\, please bring them.\nWater will be provided.\n\nSTAGING #2 DETAILS: 05-28-19 \nStaging Time: 1:40PM \nOur Lady of Sorrows Catholic Church\n7712 Rosedale St.\nEl Paso\, Texas 79915\n\n\nRide Captain: \nVaughn Nelson\nfwtpgrmissions@gmail.com\n(915) 667-9992\n\n\nSpecial Instructions: \nBriefing: 1:50 pm\nKSU: 2:00 pm\nInterment: 2:30 pm (East Shelter)\nEscort from Our Lady of Sorrows Catholic Church to Fort Bliss National Cemetery.\nAll Times are Approximate with EPPD escort service.\nUpon arrival at Ft. Bliss National Cemetery the PGR will establish an Honors Flag line for the family and friends attending the service.  Mission Scheduling:Paul Lewey\, elpaso2007@yahoo.com (915)433-7000\n\nFlags & Water:\nFlags will be provided\nIf you have large bike flags\, please bring them.\nWater will be provided.\n\n\n\nSubmitted By: Vaughn Nelson \nPosition: Texas Ride Captain \n\nNote: You do not have to own/ride a motorcycle or be a veteran to join\, and membership is Free. The only requirement is RESPECT! To subscribe to receive mission notices\, log into the National Site and click on the Members tab at the top. Select the Subscribe to PGR Missions option.\n Print This Page
URL:https://www.patriotguard.org/mission/ursulo-c-tavares/
CATEGORIES:Honor Mission
END:VEVENT
END:VCALENDAR