BEGIN:VCALENDAR
VERSION:2.0
PRODID:-//Patriot Guard Riders - ECPv5.3.2.1//NONSGML v1.0//EN
CALSCALE:GREGORIAN
METHOD:PUBLISH
X-WR-CALNAME:Patriot Guard Riders
X-ORIGINAL-URL:https://www.patriotguard.org
X-WR-CALDESC:Events for Patriot Guard Riders
BEGIN:VTIMEZONE
TZID:America/New_York
BEGIN:DAYLIGHT
TZOFFSETFROM:-0500
TZOFFSETTO:-0400
TZNAME:EDT
DTSTART:20170312T070000
END:DAYLIGHT
BEGIN:STANDARD
TZOFFSETFROM:-0400
TZOFFSETTO:-0500
TZNAME:EST
DTSTART:20171105T060000
END:STANDARD
END:VTIMEZONE
BEGIN:VEVENT
DTSTART;TZID=America/New_York:20170605T070000
DTEND;TZID=America/New_York:20170605T090000
DTSTAMP:20210403T041207
CREATED:20170605T110000Z
LAST-MODIFIED:20191201T042854Z
UID:365704-1496646000-1496653200@www.patriotguard.org
SUMMARY:UPDATED DATE Mission Request for 05 JUNE 2017 from Virginia - Jack A. Meisinger\, 90\, Ashburn\, VA
DESCRIPTION:Submitted by:\n\n[COLOR=“blue”]Member Name: [/COLOR]  Bruce Gentile\n\n[COLOR=“blue”]Position: [/COLOR]  State Captain\n\n[COLOR=“blue”]City\, State: [/COLOR]  Waldorf\, Maryland\n\n[COLOR=“blue”]User Name: [/COLOR]  bgent\n\n[COLOR=“blue”]Email: [/COLOR]  bgent295@aol.com\n\n\nEmail Subject Line Setup\n[HR][/HR]\nPrefix to Use – ANC\nSubject Line –   Jack A. Meisinger\, 90\, Ashburn\, VA \, Retired\, USAF – WWII\, Korea\,  Falls Church\, Virginia  – 05 June 2017\n[HR][/HR] \n \n \nMod Instructions:\n\nMods: No prior thread exists.  This is an ANC Mission\nPlease send statewide to DC\, MD\, VA\n\n\n\n++++++++ Copy the Information above this line++++++++++ \nANC Mission \n\n*** DO NOT REPLY *** \nThis is an automated message sent to you because you have subscribed to this State’s Mission thread. For current details on this mission\, please follow the link below. \nJack A. Meisinger\, 90\, Ashburn\, VA\, Retired \nUSAF  – WWII\, Korea \nFalls Church\, Virginia – 05 June 2017\n\n[HR][/HR]\nABOUT THE MISSION: \nFlight Officer Jack Arthur Meisinger\, 90\, USAAC/USAF Retired\, of Ashburn\, VA\, died 16 Jan 17.  He proudly spent 23 years in service to our great Nation.  He enlisted in the USAAC in 1943\, and retired from the USAF in 1966.  During that time he completed the Aviation Cadet Program\, and was involved in various flight operations.  Later\, he was trained in and assigned to counter intelligence operations in Europe\, the Far East and domestically.  After he retired from military service he spent the next 20 years as a Federal employee and then an additional 12 years in the private sector with Vector Research Inc\, as a Senior Program Analyst. He was the recipient of many awards and commendations.  He is survived by his wife of 56 years Ivy and leaves behind a large and loving family. \nFLT Officer Jack A. Meisinger is to be interred on the hallowed grounds of Arlington National Cemetery on 5 June 2017 at approximately 0900 hours from the Administration Building.    PGR has been invited to attend the services by his family. and we will be there to stand tall silent and proud in honor of this American Aviator\, his family\, friends and comrades at arms. \nPRIMARY STAGING DETAILS:  05 June 2017 \n \nPrimary Staging Time:  7:00 A.M.\n\nAdvent Funeral Home\,\n7211 Lee Hwy.\,\n\nFalls Church\, Virginia – 22042\n\n  \n\n \n \nRide Captain:\n\nPatrick “Frenchy” Segui @ 571-314-3357  (cell)\n\n \n \nSpecial Instructions:\n\nStage:        0700 hrs.        Advent FH\, 7211 Lee Hwy.\,  Falls Church\, VA 22042\nBrief:          0715 hrs.    Must be present for briefing\nKSU:          0730 hrs.        Escort departs enroute to ANC\nHonors:      0900 hrs.     Graveside ANC (Time Approx.) \nIron Horses preferred\, cars welcomed as always.\nLarge mounted flags ok for escort\, but are NOT used in ANC for graveside services.\nMilitary mandated ID / gear NOT required for this mission.  Remember to wear your helmet while in ANC. \nDress & hydrate accordingly – Check the weather @ http://tinyurl.com/Arlington-Weather \nConcealed/carry permits are NOT recognized on military installations and federal reservations.  Therefore do not bring weapons or hazardous materials to this mission.\n\n \n \nFlags & Water:\n\nFlags Will NOT Be Provided\, Please Bring Your Own.\n\nIf you have large bike flags\, please bring them.\n\nWater WILL NOT be provided\, please bring your own.\n\nSubmitted By:  Bruce Gentile\nPosition:  State Captain \n[HR][/HR]\nNote:\nYou do not have to own/ride a motorcycle or be a Veteran to join and membership is Free. The only requirement is RESPECT! To join\, simply go to www.PatriotGuard.org and click on Register. Membership is Free. \nTo subscribe to receive mission notices\, log into the National Site and click on the Mission Tab at the top. Select Upcoming Missions by State. Scroll to the state(s) you would like to receive notices for and click on the green check mark. Detailed instructions are also located in the FAQs on the site by clicking on the Quick Links Tab and selecting FAQs.
URL:https://www.patriotguard.org/mission/updated-date-mission-request-for-05-june-2017-from-virginia-jack-a-meisinger-90-ashburn-va/
CATEGORIES:Archive
END:VEVENT
END:VCALENDAR