BEGIN:VCALENDAR
VERSION:2.0
PRODID:-//Patriot Guard Riders - ECPv5.3.2.1//NONSGML v1.0//EN
CALSCALE:GREGORIAN
METHOD:PUBLISH
X-WR-CALNAME:Patriot Guard Riders
X-ORIGINAL-URL:https://www.patriotguard.org
X-WR-CALDESC:Events for Patriot Guard Riders
BEGIN:VTIMEZONE
TZID:America/New_York
BEGIN:DAYLIGHT
TZOFFSETFROM:-0500
TZOFFSETTO:-0400
TZNAME:EDT
DTSTART:20190310T070000
END:DAYLIGHT
BEGIN:STANDARD
TZOFFSETFROM:-0400
TZOFFSETTO:-0500
TZNAME:EST
DTSTART:20191103T060000
END:STANDARD
END:VTIMEZONE
BEGIN:VEVENT
DTSTART;VALUE=DATE:20190716
DTEND;VALUE=DATE:20190717
DTSTAMP:20210404T064254
CREATED:20190714T002055Z
LAST-MODIFIED:20190714T002509Z
UID:167551-1563235200-1563321599@www.patriotguard.org
SUMMARY:Ulysses S Moore
DESCRIPTION:Honor Mission\nUlysses S Moore\, Veteran\nUSA –\nForest Park\, Oklahoma – 07-16-19\n\n\n\nABOUT THE MISSION: \nThe family of USA WWI Veteran PVT Ulysses S. Moore has asked the PGR to stand a Flag Line for his Memorial 11a.m. 16 July 2019 at Trice Hill Cemetery located at NW 50 and Coltrane Rd.\, Forest Park\, OK.\n\n\nPRIMARY STAGING DETAILS: 07-16-19 \nStaging Time: 09:30 AM\n \nCorner of NW 50th and Coltrane Rd.\nForest Park\, Oklahoma\n\n\nRide Captain: \nJeff “Poppa Bear” Huff\n405-714-0969\njeff.huff1997@gmail.com\n\n\nSpecial Instructions: \nStaging: 9:30 a.m.\nA short briefing will take place prior to the arrival of the family\, dignitaries and friends for the Ceremony. Once the family arrives and the Ceremony starts\, the flags will be returned to the flag vehicle and the Mission is complete.\nWeather: High 90’s\nRide or Drive to your ability Hydrate…… Hydrate…… Hydrate.\nThank you for all you do.\n\n\nFlags & Water:\nFlags will be provided\nLarge Bike Flags will NOT be needed.\nWater will be provided.\n\n\n\nSubmitted By: Jeff Huff \nPosition: Oklahoma Ride Captain \n\nNote: You do not have to own/ride a motorcycle or be a veteran to join\, and membership is Free. The only requirement is RESPECT! To subscribe to receive mission notices\, log into the National Site and click on the Members tab at the top. Select the Subscribe to PGR Missions option.\n Print This Page
URL:https://www.patriotguard.org/mission/ulysses-s-moore/
CATEGORIES:Honor Mission
END:VEVENT
END:VCALENDAR