BEGIN:VCALENDAR
VERSION:2.0
PRODID:-//Patriot Guard Riders - ECPv5.3.2.1//NONSGML v1.0//EN
CALSCALE:GREGORIAN
METHOD:PUBLISH
X-WR-CALNAME:Patriot Guard Riders
X-ORIGINAL-URL:https://www.patriotguard.org
X-WR-CALDESC:Events for Patriot Guard Riders
BEGIN:VTIMEZONE
TZID:America/New_York
BEGIN:DAYLIGHT
TZOFFSETFROM:-0500
TZOFFSETTO:-0400
TZNAME:EDT
DTSTART:20190310T070000
END:DAYLIGHT
BEGIN:STANDARD
TZOFFSETFROM:-0400
TZOFFSETTO:-0500
TZNAME:EST
DTSTART:20191103T060000
END:STANDARD
END:VTIMEZONE
BEGIN:VEVENT
DTSTART;VALUE=DATE:20190911
DTEND;VALUE=DATE:20190912
DTSTAMP:20210401T014115
CREATED:20190909T011418Z
LAST-MODIFIED:20190909T011418Z
UID:172950-1568160000-1568246399@www.patriotguard.org
SUMMARY:Uintah High School Flag Retirement
DESCRIPTION:HOTH Mission\nUintah High School Flag Retirement\n\nVernal\, Utah – 09-11-19\n\n\n\nABOUT THE MISSION: \nThe Patriot Guard Riders have been requested to stand a flag line for Uintah High School’s Flag Retirement. This will be a HOTH format.\nThe Eagle Scouts are going to retire the U.S. Flag that is in place and raise a new one in memory of those we lost on September 11th.\nThe Flag Retirement will be at Uintah High School on 1880 W 500 N in Vernal at 7:30 AM on Wednesday\, September 11\, 2019.\nWe will stand a flag line at the high school during the retirement ceremony.\n\n\nPRIMARY STAGING DETAILS: 09-11-19 \nStaging Time: 6:45 AM\n \nLowe’s\n2105 W US-40\nVernal\, Utah\n\n\nRide Captain: \nAubrey McCarrel\n435-219-5490\n\n\nSpecial Instructions: \nKSU: 7:00 AM\nWeather: Partly cloudy with a 20% chance of showers and a high of 73\nAnyone attending in a cage and willing to transport flags please contact Aubrey McCarrel at: 435-219-5490.\n\n\nFlags & Water:\nFlags will be provided\nIf you have large bike flags\, please bring them.\nWater WILL NOT be provided\, please bring your own.\n\n\n\nSubmitted By: Dave Richardson \nPosition: Utah State Captain \n\nNote: You do not have to own/ride a motorcycle or be a veteran to join\, and membership is Free. The only requirement is RESPECT! To subscribe to receive mission notices\, log into the National Site and click on the Members tab at the top. Select the Subscribe to PGR Missions option.\n Print This Page
URL:https://www.patriotguard.org/mission/uintah-high-school-flag-retirement/
CATEGORIES:HOTH Mission
END:VEVENT
END:VCALENDAR