BEGIN:VCALENDAR
VERSION:2.0
PRODID:-//Patriot Guard Riders - ECPv5.3.2.1//NONSGML v1.0//EN
CALSCALE:GREGORIAN
METHOD:PUBLISH
X-WR-CALNAME:Patriot Guard Riders
X-ORIGINAL-URL:https://www.patriotguard.org
X-WR-CALDESC:Events for Patriot Guard Riders
BEGIN:VTIMEZONE
TZID:America/New_York
BEGIN:DAYLIGHT
TZOFFSETFROM:-0500
TZOFFSETTO:-0400
TZNAME:EDT
DTSTART:20190310T070000
END:DAYLIGHT
BEGIN:STANDARD
TZOFFSETFROM:-0400
TZOFFSETTO:-0500
TZNAME:EST
DTSTART:20191103T060000
END:STANDARD
END:VTIMEZONE
BEGIN:VEVENT
DTSTART;VALUE=DATE:20190803
DTEND;VALUE=DATE:20190804
DTSTAMP:20210402T092721
CREATED:20190802T132434Z
LAST-MODIFIED:20190802T132434Z
UID:169514-1564790400-1564876799@www.patriotguard.org
SUMMARY:Uintah Basin in Celebration Parade
DESCRIPTION:HOTH Mission\nUintah Basin in Celebration Parade\n–\nRoosevelt\, Utah – 08-03-19\n\n\n\nABOUT THE MISSION: \nThe Patriot Guard Riders have been requested by Roosevelt City to raise the flag at the Uintah Basin in Celebration Parade. This will be a HOTH format.\nAnyone that would like to help decorate the float\, meet at the Anderson’s house on 332 N 500 E in Roosevelt at 07:30 AM. There will be donuts and drinks for our helpers!\n\n\nPRIMARY STAGING DETAILS: 08-03-19 \nStaging Time: 09:30 AM\n \nStewart’s Marketplace\n245 W Hwy 40\nRoosevelt\, Utah\n\n\nRide Captain: \nRuth Anderson\n435-724-1485\n\nAsst: Cindy Bryson\, 435-790-1565\n\n\nSpecial Instructions: \nKSU: 9:45 AM\nThe parade will start at the corner of intersection of Lagoon St and Main St in Roosevelt at 10:00 AM. We will escort the cranes to the intersection and line the street with our bikes where the flag will raised.\nFor those who would like to follow the float after the raising of the flag; you may fall in behind the float once the parade begins moving again. All others will be able to leave through a side road.\nFor those wanting to ride on the float and throw candy; you will need to line up at 09:30 AM at Crossroads Senior Center on 50 E 200 S in Roosevelt.\nThe parade will begin at 10:00 SHARP.\nWeather: Mostly cloudy with a high of 94.\nPlease dress accordingly and keep yourself hydrated.\n\n\nFlags & Water:\nFlags will be provided\nIf you have large bike flags\, please bring them.\nWater WILL NOT be provided\, please bring your own.\n\n\n\nSubmitted By: Dave Richardson \nPosition: Utah State Captain \n\nNote: You do not have to own/ride a motorcycle or be a veteran to join\, and membership is Free. The only requirement is RESPECT! To subscribe to receive mission notices\, log into the National Site and click on the Members tab at the top. Select the Subscribe to PGR Missions option.\n Print This Page
URL:https://www.patriotguard.org/mission/uintah-basin-in-celebration-parade/
CATEGORIES:HOTH Mission
END:VEVENT
END:VCALENDAR