BEGIN:VCALENDAR
VERSION:2.0
PRODID:-//Patriot Guard Riders - ECPv5.3.2.1//NONSGML v1.0//EN
CALSCALE:GREGORIAN
METHOD:PUBLISH
X-WR-CALNAME:Patriot Guard Riders
X-ORIGINAL-URL:https://www.patriotguard.org
X-WR-CALDESC:Events for Patriot Guard Riders
BEGIN:VTIMEZONE
TZID:America/New_York
BEGIN:DAYLIGHT
TZOFFSETFROM:-0500
TZOFFSETTO:-0400
TZNAME:EDT
DTSTART:20150308T070000
END:DAYLIGHT
BEGIN:STANDARD
TZOFFSETFROM:-0400
TZOFFSETTO:-0500
TZNAME:EST
DTSTART:20151101T060000
END:STANDARD
END:VTIMEZONE
BEGIN:VEVENT
DTSTART;TZID=America/New_York:20150122T090000
DTEND;TZID=America/New_York:20150122T110000
DTSTAMP:20210401T172319
CREATED:20150122T140000Z
LAST-MODIFIED:20191201T130627Z
UID:397350-1421917200-1421924400@www.patriotguard.org
SUMMARY:U. J. Dillavou\, 99
DESCRIPTION:U.J. “Dilly”Dillavou is a World War II Veteran\, having served in the US Army from 1945-1946. Dilly lived in the The Village of LynxCreek in Dewey\, AZ\, when he passed on January 11 at the age of 99. Dilly iss urvived by three children\, and his family has asked the PGR to have a flagline at Dilly’s service at the VA Chapel at the Northern Arizona VA \, starting at 1230 hours. \nDATE: Thursday\, January 22\, 2015 \nLOCATION:  V.A. Chapel\n                        NorthernArizona VA\n                        500 N.Highway 89\n                        Prescott\, AZ \n[Directions: Enter into the Northern Arizona VA off of Highway 89; go tothe stop sign; bear right onto Col. Holmberg Road; the Chapel is about ½ blockdown on your right; parking lot on your left (visitor’s parking – Lot C)] \nSTAGING: 1115 HOURS at VA Chapel\n\nBRIEFING: 1145 HOURS \nFLAG LINE: 1200HOURS \nFLAG LINE ONLY; FLAGS WILL BE PROVIDED BY PGR.\nNO ROAD GUARDS NEEDED \nRIDE CAPTAIN \nJohn Moffitt\nprescottbikers@hotmail.com\n928-713-0856
URL:https://www.patriotguard.org/mission/u-j-dillavou-99/
CATEGORIES:Archive
END:VEVENT
END:VCALENDAR