BEGIN:VCALENDAR
VERSION:2.0
PRODID:-//Patriot Guard Riders - ECPv5.3.2.1//NONSGML v1.0//EN
CALSCALE:GREGORIAN
METHOD:PUBLISH
X-WR-CALNAME:Patriot Guard Riders
X-ORIGINAL-URL:https://www.patriotguard.org
X-WR-CALDESC:Events for Patriot Guard Riders
BEGIN:VTIMEZONE
TZID:America/New_York
BEGIN:DAYLIGHT
TZOFFSETFROM:-0500
TZOFFSETTO:-0400
TZNAME:EDT
DTSTART:20150308T070000
END:DAYLIGHT
BEGIN:STANDARD
TZOFFSETFROM:-0400
TZOFFSETTO:-0500
TZNAME:EST
DTSTART:20151101T060000
END:STANDARD
END:VTIMEZONE
BEGIN:VEVENT
DTSTART;TZID=America/New_York:20150411T090000
DTEND;TZID=America/New_York:20150411T110000
DTSTAMP:20210406T001459
CREATED:20150411T130000Z
LAST-MODIFIED:20191201T125643Z
UID:395626-1428742800-1428750000@www.patriotguard.org
SUMMARY:Tyler Wilson
DESCRIPTION:Tyler Wilson\n\n\nUS Army Veteran\n\n\nSaturday\, 11 April 2015\n\n\nThe family of Tyler Wilson\, US Army  veteran\, has graciously invited the Patriot Guard Riders to stand and  honor him and his service to his country . Please come join together and  give our respects to this fine gentleman and his family.\n\n\nThis will be a flagline only mission at the Gonce Funeral Home.\n\n\nRally: Saturday\, 11 April\, 2:15 PM\n\n\nWe will stand our flagline during the viewing and service from 3:00-5:00pm\n\n\nGonce Funeral Home\n\n\n4001 Ritchie Highway\n\n\nBaltimore\, MD 21225\n\n\nRide Captain: Bill Johnston\n\n\n410-507-4176\n\n\nWeather is forecast to be sunny with a  high of 63 degs. \nPlease dress appropriately\, bring something to drink  to stay hydrated and your 3×5 flag for the flagline.\n \n\nBill Staats\nMD & DC State Captain\n(410)404-2590
URL:https://www.patriotguard.org/mission/tyler-wilson/
CATEGORIES:Archive
END:VEVENT
END:VCALENDAR