BEGIN:VCALENDAR
VERSION:2.0
PRODID:-//Patriot Guard Riders - ECPv5.6.0//NONSGML v1.0//EN
CALSCALE:GREGORIAN
METHOD:PUBLISH
X-WR-CALNAME:Patriot Guard Riders
X-ORIGINAL-URL:https://www.patriotguard.org
X-WR-CALDESC:Events for Patriot Guard Riders
BEGIN:VTIMEZONE
TZID:America/New_York
BEGIN:DAYLIGHT
TZOFFSETFROM:-0500
TZOFFSETTO:-0400
TZNAME:EDT
DTSTART:20160313T070000
END:DAYLIGHT
BEGIN:STANDARD
TZOFFSETFROM:-0400
TZOFFSETTO:-0500
TZNAME:EST
DTSTART:20161106T060000
END:STANDARD
END:VTIMEZONE
BEGIN:VEVENT
DTSTART;TZID=America/New_York:20160720T090000
DTEND;TZID=America/New_York:20160720T110000
DTSTAMP:20210512T231922
CREATED:20160720T130000Z
LAST-MODIFIED:20191201T144235Z
UID:410510-1469005200-1469012400@www.patriotguard.org
SUMMARY:Two (2) American Heroes / Detroit
DESCRIPTION:The Patriot Guard Riders have  been invited to honor two unclaimed  Veterans by escorting them from the Wayne County Morgue to Great Lakes  National Cemetery (GLNC). \nThe first Veteran is Donald Christian Willis\,  age 80\, United States Air Force. \nThe second Veteran is William Owensby\,  Age 55\, United States Navy. \nBurial will follow the escort. \n\nPART ONE ESCORT: \n\nStaging Location: \nWayne County Medical Examiners Office\n1300 E. Warren Ave\nDetroit\, Mi 48207\nLink:  http://mapq.st/2a5byAY \nStage: 7:45 am \nBrief:  8:10 am \nKSU:  8:30 am  \nSRC: “Viper”\, 586-873-5096\nkta422@hotmail.com \nThis  will be a State Police lead escort. It will be expressway route and  speeds. Make sure any flags flown will withstand highway speeds.  \nThis will be a motorcycle escort only and any cages attending the funeral will go directly to McDonalds at Holly as directed below.  \nYou must attend the briefing to ride in the escort. \nPART TWO BURIAL:  \nStaging Location:\nMcDonalds\n15187 N. Holly Road\nHolly\, Mi 48442\n  Map:  http://mapq.st/1YEl8sT \nStage: 8:45 am \nBrief:  9:15 am. \nKSU :  9:30 am \nR/C: Patches\, 810-348-0809\nSeth48507@yahoo.com \nPlease bring your 5′ X 7′ American Flags to stand with honor for Mr. Willis and Mr. Owensby.
URL:https://www.patriotguard.org/mission/two-2-american-heroes-detroit/
CATEGORIES:Archive
END:VEVENT
END:VCALENDAR