BEGIN:VCALENDAR
VERSION:2.0
PRODID:-//Patriot Guard Riders - ECPv5.6.0//NONSGML v1.0//EN
CALSCALE:GREGORIAN
METHOD:PUBLISH
X-WR-CALNAME:Patriot Guard Riders
X-ORIGINAL-URL:https://www.patriotguard.org
X-WR-CALDESC:Events for Patriot Guard Riders
BEGIN:VTIMEZONE
TZID:America/New_York
BEGIN:DAYLIGHT
TZOFFSETFROM:-0500
TZOFFSETTO:-0400
TZNAME:EDT
DTSTART:20160313T070000
END:DAYLIGHT
BEGIN:STANDARD
TZOFFSETFROM:-0400
TZOFFSETTO:-0500
TZNAME:EST
DTSTART:20161106T060000
END:STANDARD
END:VTIMEZONE
BEGIN:VEVENT
DTSTART;TZID=America/New_York:20160815T090000
DTEND;TZID=America/New_York:20160815T110000
DTSTAMP:20210512T030526
CREATED:20160815T130000Z
LAST-MODIFIED:20191201T143615Z
UID:409926-1471251600-1471258800@www.patriotguard.org
SUMMARY:TSgt Romuald Suszczewicz
DESCRIPTION:The family of Romuald Suszczewicz has invited the PGR to stand a  flag line for military honors on Monday\, 15 August 2016\, at the Southern  Arizona Veterans Memorial Cemetery. \nRomuald was born in Poland and  after becoming a US citizen he proudly served in the U.S. Air Force for  over 22 years. He is also a retired Fire Chief.  Military honors will  commence at 1:00 pm. \nSTAGING INFO: \nLOCATION:  Entrance to SAZVMC\, 1300 Buffalo Soldier Trail\, Sierra Vista w/ 3×5 flags mounted\nTIME:  12:00 pm\nBRIEFING:  12:25 pm\nKSU:  12:30 pm \nRIDE CAPTAIN:  Becky Baze\, 520-508-7127
URL:https://www.patriotguard.org/mission/tsgt-romuald-suszczewicz/
CATEGORIES:Archive
END:VEVENT
END:VCALENDAR