BEGIN:VCALENDAR
VERSION:2.0
PRODID:-//Patriot Guard Riders - ECPv5.6.0//NONSGML v1.0//EN
CALSCALE:GREGORIAN
METHOD:PUBLISH
X-WR-CALNAME:Patriot Guard Riders
X-ORIGINAL-URL:https://www.patriotguard.org
X-WR-CALDESC:Events for Patriot Guard Riders
BEGIN:VTIMEZONE
TZID:America/New_York
BEGIN:DAYLIGHT
TZOFFSETFROM:-0500
TZOFFSETTO:-0400
TZNAME:EDT
DTSTART:20160313T070000
END:DAYLIGHT
BEGIN:STANDARD
TZOFFSETFROM:-0400
TZOFFSETTO:-0500
TZNAME:EST
DTSTART:20161106T060000
END:STANDARD
END:VTIMEZONE
BEGIN:VEVENT
DTSTART;TZID=America/New_York:20160715T090000
DTEND;TZID=America/New_York:20160715T110000
DTSTAMP:20210512T121440
CREATED:20160715T130000Z
LAST-MODIFIED:20191201T144305Z
UID:410558-1468573200-1468580400@www.patriotguard.org
SUMMARY:TSgt Robert Louis Wharton
DESCRIPTION:Patriot’s Name:     TSgt Robert Louis Wharton\nMilitary Branch: United States Air Force\nClassification: Retired From Military\nAdditional Military Info: Retired 13 July 1989\, after serving on active duty from 26 Jun 1969. He was a Dental Technician for 17 years\, finishing his military career as an Air Force Recruiter. Military honors include; AF Commendation Medal w/2 Oak Leaf Clusters; AF Good Conduct Medal w/5 Oak Leaf Clusters: AF Overseas Long Tour Ribbon w/1 Oak Leaf Cluster; AF Longevity Service Ribbon w/4 Oak Leaf Clusters; AF Training Ribbon. \nMission Ride Captain: Bill “Zippy-K” Kushnir\, bpkush@gte.net\, (214) 995-1536 \nMission Summary: The family has asked the PGR to stand a flag line at the funeral and inurnment services. \nPART 1: Funeral and Inurnment Services\nMission Date: Jul 15\, 2016 – Friday\nStaging Time: 13:00\nBriefing Time: 13:15\nIn Position Time Or KSU: 13:30\nService Start Time: 14:00 \nDetails Of Part 1: Riders will stage at the funeral home. After the briefing\, riders will stand tall and silent while family and friends\narrive. After the service begins\, flags will be returned to the support vehicle to be reset at the burial site located on the adjoining property.  Honor bikes will be chosen to escort TSgt Wharton to the burial site\, where military honors will be rendered by the U.S. Air Force Honor Guard. Following the service\, flags will once again be returned to the support vehicle and riders will be debriefed and dismissed. \nName Of Staging Point: Moore Funeral Home and Memorial Gardens\nStaging Address For Part 1: 1219 N. Davis\nArlington\, Texas 76012
URL:https://www.patriotguard.org/mission/tsgt-robert-louis-wharton/
CATEGORIES:Archive
END:VEVENT
END:VCALENDAR