BEGIN:VCALENDAR
VERSION:2.0
PRODID:-//Patriot Guard Riders - ECPv5.6.0//NONSGML v1.0//EN
CALSCALE:GREGORIAN
METHOD:PUBLISH
X-WR-CALNAME:Patriot Guard Riders
X-ORIGINAL-URL:https://www.patriotguard.org
X-WR-CALDESC:Events for Patriot Guard Riders
BEGIN:VTIMEZONE
TZID:America/New_York
BEGIN:DAYLIGHT
TZOFFSETFROM:-0500
TZOFFSETTO:-0400
TZNAME:EDT
DTSTART:20160313T070000
END:DAYLIGHT
BEGIN:STANDARD
TZOFFSETFROM:-0400
TZOFFSETTO:-0500
TZNAME:EST
DTSTART:20161106T060000
END:STANDARD
END:VTIMEZONE
BEGIN:VEVENT
DTSTART;TZID=America/New_York:20160627T090000
DTEND;TZID=America/New_York:20160627T110000
DTSTAMP:20210512T143728
CREATED:20160627T130000Z
LAST-MODIFIED:20191201T144829Z
UID:411051-1467018000-1467025200@www.patriotguard.org
SUMMARY:TSgt Richard William Stacho
DESCRIPTION:HONOR MISSION\nTECHNICAL SERGEANT RICHARD WILLIAM STACHO\nUS AIR FORCE RETIRED\nMIDDLEBURG\, FL\nMONDAY\, JUNE 27\, 2016\n\n\nThe Family and Friends of TSgt. Richard William Stacho\, USAF (Ret.)\, requests the presence of the Patriot Guard Riders to Honor their Hero on Monday\, June 27\, 2016 at his Service which will be conducted at the Hardage-Giddens Holly Hill Funeral Home at 1300 (1:00 PM)\, Monday\, June 27\, 2016. \nTSgt. Stacho served our country from 1984 to 2004.  Among his awards were the Air Force Commendation Medal (occs2)\, Air Force Achievement Medal (occs2) and the NCO Professional Military Education Graduate Ribbon. \nTSgt. Stacho proudly served this country well and faithfully. It is now our turn to render honors and provide a heartfelt thanks for his service and sacrifice to our country. \nSTAGING\nStaging will take place at the Hardage-Giddens Holly Hill Funeral Home\, 3601 Old Jennings Road\, Middleburg\, FL 32068. \nMap: https://goo.gl/maps/AxjqsbS99fD2 \nStaging: 1130 (11:30 AM)\nBriefing: 1145 (11:45 AM)\nSet Flag line: 1200 (12:00 PM) \nAfter the Service starts at 1300 (1:00 PM)\, we will stand down and be prepared to render Military Honors at the conclusion of the Service (approximately 30 to 45 minutes) as TSgt. Stacho is placed into the hearse. \nPlease bring your 3X5 hand held flags to honor this Hero. \nRide Captain: Larry Jones\n(904) 704-7274\njlarryg@bellsouth.net
URL:https://www.patriotguard.org/mission/tsgt-richard-william-stacho/
CATEGORIES:Archive
END:VEVENT
END:VCALENDAR