BEGIN:VCALENDAR
VERSION:2.0
PRODID:-//Patriot Guard Riders - ECPv5.6.0//NONSGML v1.0//EN
CALSCALE:GREGORIAN
METHOD:PUBLISH
X-WR-CALNAME:Patriot Guard Riders
X-ORIGINAL-URL:https://www.patriotguard.org
X-WR-CALDESC:Events for Patriot Guard Riders
BEGIN:VTIMEZONE
TZID:America/New_York
BEGIN:DAYLIGHT
TZOFFSETFROM:-0500
TZOFFSETTO:-0400
TZNAME:EDT
DTSTART:20160313T070000
END:DAYLIGHT
BEGIN:STANDARD
TZOFFSETFROM:-0400
TZOFFSETTO:-0500
TZNAME:EST
DTSTART:20161106T060000
END:STANDARD
END:VTIMEZONE
BEGIN:VEVENT
DTSTART;TZID=America/New_York:20160826T090000
DTEND;TZID=America/New_York:20160826T110000
DTSTAMP:20210512T042343
CREATED:20160826T130000Z
LAST-MODIFIED:20191201T143320Z
UID:409654-1472202000-1472209200@www.patriotguard.org
SUMMARY:TSgt Kevin Sevilla\, 29
DESCRIPTION:This will be a multi-part mission in CA & NV\n \nPart 1\n \nThe U.S. Air Force and the family have invited the Patriot Guard Riders to accompany the Hero from the mortuary to the airport as he travels home to his family in Nevada.  We will be honored to do so.\n \nTSgt Kevin Sevilla\, 29\, served 9 years in the U. S. Air Force. He was assigned to 452nd AES (Aeromedical Extraction Squadron).  Sadly he passed away while on Active Duty.\n \nPart 1 will consist of accompanying the Hero from the mortuary in Romoland\, approximately 39 miles to Ontario International Airport\, as he travels home to Las Vegas\, Nevada.\n \nPGR in Nevada has been invited to receive this Hero in Las Vegas and accompany him to the mortuary in Las Vegas.\n \nNOTE: This mission posting is to facilitate your voluntary participation in honoring this American Hero. For those interested\, and all are welcome\, we will be accompanying the Hero from the mortuary to the Airport. Please see the time table if you would like to participate.\n \nPart 1 Time table for Friday\, 26 AUG 16:\n \n0745 – Stage at Miller-Jones Care Center\, 26245 Palomar Rd.\, Romoland\, CA  https://goo.gl/maps/JMs9fmq6LQU2\n \n0815 – Mission briefing\n \n0830 – Prepare for Flag Line for dignified transfer of Hero to coach\n \n0845 – KSU to Ontario International Airport\, Ontario\, CA 91761  https://goo.gl/maps/o5h8HeJ7py12\n \n1000 – ETA Ontario Airport for departure of Hero to Las Vegas\, NV\n \nR/C Vince Hernandez\ncalldanek@yahoo.com\n951-236-3140 cell\n \nYou do not have to be a Veteran or a motorcycle rider to attend this mission. Everyone is welcome. We encourage those who do not ride to attend in your car. If this will be your first mission go to the initial staging area and you will be briefed there by the R/C (Ride Captain).  Dress for motorcycle riding or dress casually if you are driving a cage (car).  Please feel free to attend any portion of this mission you can.  Please ride/drive safely.
URL:https://www.patriotguard.org/mission/tsgt-kevin-sevilla-29/
CATEGORIES:Archive
END:VEVENT
END:VCALENDAR