BEGIN:VCALENDAR
VERSION:2.0
PRODID:-//Patriot Guard Riders - ECPv5.6.0//NONSGML v1.0//EN
CALSCALE:GREGORIAN
METHOD:PUBLISH
X-WR-CALNAME:Patriot Guard Riders
X-ORIGINAL-URL:https://www.patriotguard.org
X-WR-CALDESC:Events for Patriot Guard Riders
BEGIN:VTIMEZONE
TZID:America/New_York
BEGIN:DAYLIGHT
TZOFFSETFROM:-0500
TZOFFSETTO:-0400
TZNAME:EDT
DTSTART:20160313T070000
END:DAYLIGHT
BEGIN:STANDARD
TZOFFSETFROM:-0400
TZOFFSETTO:-0500
TZNAME:EST
DTSTART:20161106T060000
END:STANDARD
END:VTIMEZONE
BEGIN:VEVENT
DTSTART;TZID=America/New_York:20160728T090000
DTEND;TZID=America/New_York:20160728T110000
DTSTAMP:20210512T212320
CREATED:20160728T130000Z
LAST-MODIFIED:20191201T144102Z
UID:410367-1469696400-1469703600@www.patriotguard.org
SUMMARY:TSgt Herbert Fritz\, 87
DESCRIPTION:TSgt Herbert Fritz\, 87\nU.S. Air Force Retired\nSpring Hill\, FL\nThursday\, 28 July 2016\n\n\n\nThe family of TSgt Herbert Fritz has graciously requested the Patriot Guard Rider’s presence as they show their final respects and lay their loved one to rest. \nTSgt Fritz served his Country in the U.S. Air Force and performed duties as an Aircraft Mechanic (Turboprop Propulsion) and a Fire Fighter. \nTSgt Fritz spent his first 14 years of military service in SAC (Strategic Air Command) as an Aircraft Mechanic\, and then finished his career as a Fire Fighter with an Air Rescue Squadron in Westhampton\, NY. \nUpon completion of his military service\, TSgt Fritz received an Honorable Discharge and awarded the Army of Occupation Medal Japan\, WWII Victory Medal (even though his service was post WWII)\, AFR Meritorious Service Ribbon\, Air Force Longevity Service Ribbon and an Air Force Outstanding Unit Award.  No additional military related information is available at this time. \nDuring his post military service\, TSgt Fritz work for and retired from Pan American Airlines after 25 years and served his community at Lakeland Volunteer Fire Department in NY. Vice Commander at VFW Post 10209 in Spring Hill\, FL.\, and donated much of his time at Day Star Life Center\, Weeki Wachee\, FL. \nThere will be an Interment Service immediately following the Funeral Service at the same location. VFW Post 10209 and Honor Guard from MacDill AFB will officiate the service. \nPlease bring your 3 X 5 American Flags and join us as we stand in silent Honor and Respect for our U.S. Air Force (Retired) Hero and his family. \nPLEASE HYDRATE\n\nItinerary: \nFlorida Hills Memorial Gardens\, Mausoleum Pavilion\n14354 Spring Hill Dr.\nSpring Hill\, FL.\, 34609 \nMap: https://goo.gl/HicSVJ \nStage: 0845 hrs \nBrief: 0900 hrs \nFlag Line:  As determined by Ride Captain \nService:  1000 hrs \nRide Captain:\nJack “Jack Scat” Fair\npgrjack@yahoo.com\n727-857-4416 \nRespectfully submitted:\nDavid “Flyboy” Shelton \nFL ASC
URL:https://www.patriotguard.org/mission/tsgt-herbert-fritz-87/
END:VEVENT
END:VCALENDAR