BEGIN:VCALENDAR
VERSION:2.0
PRODID:-//Patriot Guard Riders - ECPv5.3.2.1//NONSGML v1.0//EN
CALSCALE:GREGORIAN
METHOD:PUBLISH
X-WR-CALNAME:Patriot Guard Riders
X-ORIGINAL-URL:https://www.patriotguard.org
X-WR-CALDESC:Events for Patriot Guard Riders
BEGIN:VTIMEZONE
TZID:America/New_York
BEGIN:DAYLIGHT
TZOFFSETFROM:-0500
TZOFFSETTO:-0400
TZNAME:EDT
DTSTART:20190310T070000
END:DAYLIGHT
BEGIN:STANDARD
TZOFFSETFROM:-0400
TZOFFSETTO:-0500
TZNAME:EST
DTSTART:20191103T060000
END:STANDARD
END:VTIMEZONE
BEGIN:VEVENT
DTSTART;VALUE=DATE:20190905
DTEND;VALUE=DATE:20190906
DTSTAMP:20210401T072520
CREATED:20190902T164139Z
LAST-MODIFIED:20190902T164139Z
UID:172543-1567641600-1567727999@www.patriotguard.org
SUMMARY:Troy Prather
DESCRIPTION:Honor Mission\nTroy Prather\, Veteran\nUSA – WWII\nClovis\, New Mexico – 09-05-19\n\n\n\nABOUT THE MISSION: \nTroy Prather joined the US Army served his country honorably in Germany and Austria as one of America’s Greatest Generation during WWII. I was just told that he definitely saw combat as there’s a picture of him standing in Hitler’s house in Austria after it was blown up. He lived in Lubbock\, TX for the past several years and has now joined his loving wife Thelma in heaven.\n\n\nPRIMARY STAGING DETAILS: 09-05-19 \nStaging Time: 1:00 pm  \nSteed Todd Funeral Home\n800 E Manana Blvd\nClovis\, New Mexico 88101\n\n\nRide Captain: \nDennis “Red Horse” Chalker\n575-799-4030\nredhorsepgr@yahoo.com\n\n\nSpecial Instructions: \nViewing: 1:00 – 2:00 PM\nService 2:00 – 3:00 PM\nI’ll stand a few static flags at Steed Todd around 1230; before the Prather family arrives.\nStaging is 1:00 PM;\nBriefing at 1:10 PM\nFlag line standing by 1:15 PM\nWe will stand down when the service begins at 2:00 PM. Following the service (approximately 3:00 pm)\, the family has requested a motorcycle escort to Lawn Haven Memorial Gardens\, 1601 E Llano Estacado Blvd\, Clovis\, NM (approximately 1.5 miles). We normally have a police escort to block traffic also.\nWe will have flags available at the cemetery and this service is expected to be very short and our mission will then be completed. Everyone wanting to be part of the MC escort may fly bike flags. Note: this is optional. Others can stage at the cemetery by 3:00 PM. Expected to be hot so please dress accordingly.\n\n\nFlags & Water:\nFlags will be provided\nIf you have large bike flags\, please bring them.\nWater will be provided.\n\nSubmitted By: Dennis Chalker \nPosition: New Mexico Assistant State Captain \n\nNote: You do not have to own/ride a motorcycle or be a veteran to join\, and membership is Free. The only requirement is RESPECT! To subscribe to receive mission notices\, log into the National Site and click on the Members tab at the top. Select the Subscribe to PGR Missions option.\n Print This Page
URL:https://www.patriotguard.org/mission/troy-prather/
CATEGORIES:Honor Mission
END:VEVENT
END:VCALENDAR