BEGIN:VCALENDAR
VERSION:2.0
PRODID:-//Patriot Guard Riders - ECPv5.3.2.1//NONSGML v1.0//EN
CALSCALE:GREGORIAN
METHOD:PUBLISH
X-WR-CALNAME:Patriot Guard Riders
X-ORIGINAL-URL:https://www.patriotguard.org
X-WR-CALDESC:Events for Patriot Guard Riders
BEGIN:VTIMEZONE
TZID:America/New_York
BEGIN:DAYLIGHT
TZOFFSETFROM:-0500
TZOFFSETTO:-0400
TZNAME:EDT
DTSTART:20190310T070000
END:DAYLIGHT
BEGIN:STANDARD
TZOFFSETFROM:-0400
TZOFFSETTO:-0500
TZNAME:EST
DTSTART:20191103T060000
END:STANDARD
END:VTIMEZONE
BEGIN:VEVENT
DTSTART;VALUE=DATE:20190802
DTEND;VALUE=DATE:20190805
DTSTAMP:20210402T091044
CREATED:20190731T133537Z
LAST-MODIFIED:20190731T133537Z
UID:169124-1564704000-1564963199@www.patriotguard.org
SUMMARY:Troop Send-Off Casing of Colors and Departure
DESCRIPTION:Honor Mission\nTroop Send-Off Casing of Colors and Departure\nARNG –\nMULTI-CITY\, South Carolina – 08-02-19\n\n\n\nABOUT THE MISSION: \nThe SCARNG have requested the PGR to attend the casing of colors ceremony and to help see the troops off as they depart for missions elsewhere. This is a two part mission.\n\n\nPRIMARY STAGING DETAILS: 08-02-19 \nStaging Time: 12:45 PM\n \nNewberry College Alumni Music Center\nCemetery Road and Luther Street\nNewberry\, South Carolina 29108\nMap\n\n\nRide Captain: \nRandy ‘Steam’ Stevens\n864-344-6002\n\n\nSpecial Instructions: \nBriefing: 1:00pm.\nThere will be a walk of approximately 200 yards to the gymnasium.\nFlag Line only. We will establish a flag line at the entrance to the gym. There is a possibility that we will move the flag line into the gymnasium for the ceremony so be prepared for that.\n\n\nFlags & Water:\nFlags will be provided\nLarge Bike Flags will NOT be needed.\nWater will be provided.\n\nSTAGING #2 DETAILS: 08-04-19 \nStaging Time: 08:00 AM\n \nEagle Aviation\n2861 Aviation Way\nWest Columbia\, South Carolina 29170\nMap\n\n\nRide Captain: \nL.Z. Harrison\, Jr.\n(803) 360-3830\n\n\nSpecial Instructions: \nBriefing: 8:15 AM\nAfter the briefing\, we will prepare the flag line for the troops arrival. Once they arrive\, we will stand down and await word of final departure.\nWe will stand up the flag line for departure.\nMission duration: 3 hours.\nFlags and Water: Richard ‘Two Pack’ Hartzog\n\n\nFlags & Water:\nFlags will be provided\nLarge Bike Flags will NOT be needed.\nWater will be provided.\n\n\n\nSubmitted By: L.Z. Harrison\, Jr. \nPosition: South Carolina Assistant State Captain \n\nNote: You do not have to own/ride a motorcycle or be a veteran to join\, and membership is Free. The only requirement is RESPECT! To subscribe to receive mission notices\, log into the National Site and click on the Members tab at the top. Select the Subscribe to PGR Missions option.\n Print This Page
URL:https://www.patriotguard.org/mission/troop-send-off-casing-of-colors-and-departure/
CATEGORIES:Honor Mission
END:VEVENT
END:VCALENDAR