BEGIN:VCALENDAR
VERSION:2.0
PRODID:-//Patriot Guard Riders - ECPv5.6.0//NONSGML v1.0//EN
CALSCALE:GREGORIAN
METHOD:PUBLISH
X-WR-CALNAME:Patriot Guard Riders
X-ORIGINAL-URL:https://www.patriotguard.org
X-WR-CALDESC:Events for Patriot Guard Riders
BEGIN:VTIMEZONE
TZID:America/New_York
BEGIN:DAYLIGHT
TZOFFSETFROM:-0500
TZOFFSETTO:-0400
TZNAME:EDT
DTSTART:20160313T070000
END:DAYLIGHT
BEGIN:STANDARD
TZOFFSETFROM:-0400
TZOFFSETTO:-0500
TZNAME:EST
DTSTART:20161106T060000
END:STANDARD
END:VTIMEZONE
BEGIN:VEVENT
DTSTART;TZID=America/New_York:20160729T090000
DTEND;TZID=America/New_York:20160729T110000
DTSTAMP:20210512T121849
CREATED:20160729T130000Z
LAST-MODIFIED:20191201T144022Z
UID:410307-1469782800-1469790000@www.patriotguard.org
SUMMARY:Travis Scott\, USMC
DESCRIPTION:The Patriot Guard Riders have been invited to stand in honor of  Travis Scott\, USMC Gulf War\, Kosovo Veteran\, for his Interment Service  on Friday 29 July at 3:00PM at Ft. Logan National Cemetery located at  3698 S. Sheridan Blvd. Denver 80235 Pavilion A.\nMr. Scott served in  the US Marine Corps as an Infantry Long Arms Marksman from 1990 until  his Honorable Discharge in 2001. He is survived by his wife and 5  children. \n2:15PM Stage in front of Ft. Logan Visitor’s Center\n2:30PM Mission Briefing\n2:45PM Depart for Pavilion A to set Flag Line \nKen ‘Nick’ Nicholas will serve as Ride Captain. \nJim Herstein will bring Flags.
URL:https://www.patriotguard.org/mission/travis-scott-usmc/
CATEGORIES:Archive
END:VEVENT
END:VCALENDAR