BEGIN:VCALENDAR
VERSION:2.0
PRODID:-//Patriot Guard Riders - ECPv5.3.2.1//NONSGML v1.0//EN
CALSCALE:GREGORIAN
METHOD:PUBLISH
X-WR-CALNAME:Patriot Guard Riders
X-ORIGINAL-URL:https://www.patriotguard.org
X-WR-CALDESC:Events for Patriot Guard Riders
BEGIN:VTIMEZONE
TZID:America/New_York
BEGIN:DAYLIGHT
TZOFFSETFROM:-0500
TZOFFSETTO:-0400
TZNAME:EDT
DTSTART:20190310T070000
END:DAYLIGHT
BEGIN:STANDARD
TZOFFSETFROM:-0400
TZOFFSETTO:-0500
TZNAME:EST
DTSTART:20191103T060000
END:STANDARD
END:VTIMEZONE
BEGIN:VEVENT
DTSTART;VALUE=DATE:20190820
DTEND;VALUE=DATE:20190821
DTSTAMP:20210402T105719
CREATED:20190819T201107Z
LAST-MODIFIED:20190819T201107Z
UID:171305-1566259200-1566345599@www.patriotguard.org
SUMMARY:Travis Riley
DESCRIPTION:Honor Mission\nTravis Riley\, Retired\nUSA\,  USAR – WoT\nLouisville\, Kentucky\n\n\n\nABOUT THE MISSION: \nMr Riley was a retired U.S. Army Major and served in Afghanistan in the Enduring Freedom campaign where he received a Bronze Star\, Combat Action Badge\, Army Commendation Medal and Army Achievement Medal\n\n\nPRIMARY STAGING DETAILS: 08-20-19 \nStaging Time: 4:45 pm  \nRattermans Funeral Home\n3800 Bardstown Rd\nLouisville\, Kentucky 40218\n\n\nRide Captain: \nDavid Ballard\n502-249-0011\n\n\nSpecial Instructions: \nMission starts at 5:00 pm till 8:00 pm\nAssisted by: Bob Kissell. 502-779-0638\n\n\nFlags & Water:\nFlags will be provided\nLarge Bike Flags will NOT be needed.\nWater WILL NOT be provided\, please bring your own.\n\n\n\nSubmitted By: Thomas Baker \nPosition: Kentucky Ride Captain \n\nNote: You do not have to own/ride a motorcycle or be a veteran to join\, and membership is Free. The only requirement is RESPECT! To subscribe to receive mission notices\, log into the National Site and click on the Members tab at the top. Select the Subscribe to PGR Missions option.\n Print This Page
URL:https://www.patriotguard.org/mission/travis-riley/
CATEGORIES:Honor Mission
END:VEVENT
END:VCALENDAR