BEGIN:VCALENDAR
VERSION:2.0
PRODID:-//Patriot Guard Riders - ECPv5.3.2.1//NONSGML v1.0//EN
CALSCALE:GREGORIAN
METHOD:PUBLISH
X-WR-CALNAME:Patriot Guard Riders
X-ORIGINAL-URL:https://www.patriotguard.org
X-WR-CALDESC:Events for Patriot Guard Riders
BEGIN:VTIMEZONE
TZID:America/New_York
BEGIN:DAYLIGHT
TZOFFSETFROM:-0500
TZOFFSETTO:-0400
TZNAME:EDT
DTSTART:20190310T070000
END:DAYLIGHT
BEGIN:STANDARD
TZOFFSETFROM:-0400
TZOFFSETTO:-0500
TZNAME:EST
DTSTART:20191103T060000
END:STANDARD
END:VTIMEZONE
BEGIN:VEVENT
DTSTART;VALUE=DATE:20190627
DTEND;VALUE=DATE:20190628
DTSTAMP:20210405T013143
CREATED:20190626T215408Z
LAST-MODIFIED:20190626T215408Z
UID:165980-1561593600-1561679999@www.patriotguard.org
SUMMARY:Travis Mark Opperman
DESCRIPTION:Honor Mission\nTravis Mark Opperman\, Veteran\nUSA – WoT\nMillington\, Michigan – 06-27-19\n\n\n\nABOUT THE MISSION: \nThe family of Travis Mark Opperman\, 31\, has invited the Patriot Guard Riders to stand a silent Flag line honoring his service to our Country. Travis proudly served in the US Army from 2007-2015. He was a Combat Engineer (Route Clearance) as part of the 41st engineer company AKA the ”Bulldawgs” of Fort Riley\, KS home of the Big Red One. Throughout his Military career he received many awards\, his most honorable being the Purple Heart-received during Operation Enduring Freedom tour from 2009-2010. He is survived by his parents\, 1 sister and a huge extended family.\n\n\nPRIMARY STAGING DETAILS: 06-27-19 \nStaging Time: 10:00 AM\n \nSt. Paul Lutheran Church\n4935 Center St\nMillington\, Michigan 48746\nMap\n\n\nRide Captain: \n“SKEETER”\n586-524-8082\ncarolp412@att.net\n\n\nSpecial Instructions: \nBrief: 10:30 AM\nF/L: 11:00 AM\nService: 2:00 PM\nPlease bring your 3′ X 5′ American Flags to stand\n\n\nFlags & Water:\nFlags will not be provided\nLarge Bike Flags will NOT be needed.\nWater WILL NOT be provided\, please bring your own.\n\n\nSubmitted By: Kenneth Talant \nPosition: Michigan Assistant State Captain \n\nNote: You do not have to own/ride a motorcycle or be a veteran to join\, and membership is Free. The only requirement is RESPECT! To subscribe to receive mission notices\, log into the National Site and click on the Members tab at the top. Select the Subscribe to PGR Missions option.\n Print This Page
URL:https://www.patriotguard.org/mission/travis-mark-opperman/
CATEGORIES:Honor Mission
END:VEVENT
END:VCALENDAR