BEGIN:VCALENDAR
VERSION:2.0
PRODID:-//Patriot Guard Riders - ECPv5.3.2.1//NONSGML v1.0//EN
CALSCALE:GREGORIAN
METHOD:PUBLISH
X-WR-CALNAME:Patriot Guard Riders
X-ORIGINAL-URL:https://www.patriotguard.org
X-WR-CALDESC:Events for Patriot Guard Riders
BEGIN:VTIMEZONE
TZID:America/New_York
BEGIN:DAYLIGHT
TZOFFSETFROM:-0500
TZOFFSETTO:-0400
TZNAME:EDT
DTSTART:20050403T070000
END:DAYLIGHT
BEGIN:STANDARD
TZOFFSETFROM:-0400
TZOFFSETTO:-0500
TZNAME:EST
DTSTART:20051030T060000
END:STANDARD
END:VTIMEZONE
BEGIN:VEVENT
DTSTART;TZID=America/New_York:20051126T090000
DTEND;TZID=America/New_York:20051126T110000
DTSTAMP:20210405T235633
CREATED:20051126T140000Z
LAST-MODIFIED:20200609T032859Z
UID:329401-1132995600-1133002800@www.patriotguard.org
SUMMARY:Travis Grigg
DESCRIPTION:Event: Travis Grigg – Inola\, OK – UPDATE \nDescription: \nMISSION STATUS: \nSerivces scheduled for Saturday 11/26/05 @ 2:00 pm \nLOCATION: United Methodist Church\, Inola\, OK \nDECEASED: Travis Grigg \nCOMMENTS: I have had discussions with Inola Chief of Police Brad Craig and family spokesperson\, Judge Erin Oquin. We have strong law enforcement and family support. \nI will post Staging location and times as they develop. \nWe need a strong showing here…all riders in the area please plan on riding to honor this fallen hero.\nPlease pass this information on to other riders and organizations in the NE Oklahoma area. \nStart Date: 11/26/2005 1:00:00 PM\nEnd Date: 11/26/2005 4:00:00 PM
URL:https://www.patriotguard.org/mission/travis-grigg/
LOCATION:Ronald Lee Adams
END:VEVENT
END:VCALENDAR