BEGIN:VCALENDAR
VERSION:2.0
PRODID:-//Patriot Guard Riders - ECPv5.3.2.1//NONSGML v1.0//EN
CALSCALE:GREGORIAN
METHOD:PUBLISH
X-WR-CALNAME:Patriot Guard Riders
X-ORIGINAL-URL:https://www.patriotguard.org
X-WR-CALDESC:Events for Patriot Guard Riders
BEGIN:VTIMEZONE
TZID:America/New_York
BEGIN:DAYLIGHT
TZOFFSETFROM:-0500
TZOFFSETTO:-0400
TZNAME:EDT
DTSTART:20190310T070000
END:DAYLIGHT
BEGIN:STANDARD
TZOFFSETFROM:-0400
TZOFFSETTO:-0500
TZNAME:EST
DTSTART:20191103T060000
END:STANDARD
END:VTIMEZONE
BEGIN:VEVENT
DTSTART;VALUE=DATE:20190613
DTEND;VALUE=DATE:20190614
DTSTAMP:20210405T060038
CREATED:20190610T201128Z
LAST-MODIFIED:20190611T032820Z
UID:164232-1560384000-1560470399@www.patriotguard.org
SUMMARY:Vietnam Memorial Traveling Wall
DESCRIPTION:HOTH Mission\nVietnam Memorial Traveling Wall\nUSA USMC USN USAF USCG –\nMedical Lake\, Washington – 06-13-19\n\n\n\nABOUT THE MISSION: \n\nNOTE: The initial email listed the mission date for Stage 1 as June 12th\, it has been corrected to Thursday June 13th.\nLadies and Gentlemen of the Patriot Guard Riders\, we have been asked to stand a flag line for the arrival of the Vietnam Memorial Traveling Wall in Medical Lake\, Washington. There will be a brief ceremony at its arrival on the morning of June 13th followed by a more formal opening ceremony later that afternoon. The Vietnam Memorial Traveling Wall will be one of the centerpiece events for the Medical Lake Founders Days\, a celebration of the towns founding that will run through the weekend.\n\n\n\nPRIMARY STAGING DETAILS: 06-13-19 \nStaging Time: 7:30 am  \nDenny’s Harvest Foods\n215 Hwy 902\nMedical Lake\, Washington 99022\n\n\nRide Captain: \nHoward “Odd Duck” Griffith\nhoward@oddduckcomputing.com\n(509) 710-7291\n\nBud “Mac” McCormack\nbudm8005@gmail.com\n(509) 279-8005‬\n\n\nSpecial Instructions: \n7:30am – Staging and Sign-in\n8:00am – Mission Briefing\n8:10am – KSU\n8:20am – Arrival and Setup\n8:30am – Flag Line in place\n9:00am – Arrival ceremony begins\nThe Flag Line will be dismissed at the discretion of the Ride Captain at the beginning of the arrival ceremony.\n\n\nFlags & Water:\nFlags will be provided\nLarge Bike Flags will NOT be needed.\nWater will be provided.\n\nSTAGING #2 DETAILS: 06-13-19 \nStaging Time: 4:30 pm  \nDenny’s Harvest Foods\n215 Hwy 902\nMedical Lake\, Washington 99022\n\n\nRide Captain: \nBud “Mac” McCormack\nbudm8005@gmail.com\n(509) 279-8005‬\n\nTim Schudel\nt1msch2del1524@gmail.com\n(509) 220-2045\n\n\nSpecial Instructions: \n4:30pm – Staging and Sign-in\n5:00pm – Mission Briefing\n5:10pm – KSU\n5:20pm – Arrival and Setup\n5:30pm – Flag Line in place\n6:00pm – Arrival ceremony begins\nThe Flag Line will be dismissed at the discretion of the Ride Captain at the beginning of the arrival ceremony.\n\n\nFlags & Water:\nFlags will be provided\nLarge Bike Flags will NOT be needed.\nWater will be provided.\n\n\n\nSubmitted By: Howard Griffith \nPosition: Washington Ride Captain \n\nNote: You do not have to own/ride a motorcycle or be a veteran to join\, and membership is Free. The only requirement is RESPECT! To subscribe to receive mission notices\, log into the National Site and click on the Members tab at the top. Select the Subscribe to PGR Missions option.\n Print This Page
URL:https://www.patriotguard.org/mission/traveling-vietnam-memorial-wall/
CATEGORIES:HOTH Mission
END:VEVENT
END:VCALENDAR