BEGIN:VCALENDAR
VERSION:2.0
PRODID:-//Patriot Guard Riders - ECPv5.3.2.1//NONSGML v1.0//EN
CALSCALE:GREGORIAN
METHOD:PUBLISH
X-WR-CALNAME:Patriot Guard Riders
X-ORIGINAL-URL:https://www.patriotguard.org
X-WR-CALDESC:Events for Patriot Guard Riders
BEGIN:VTIMEZONE
TZID:America/New_York
BEGIN:DAYLIGHT
TZOFFSETFROM:-0500
TZOFFSETTO:-0400
TZNAME:EDT
DTSTART:20190310T070000
END:DAYLIGHT
BEGIN:STANDARD
TZOFFSETFROM:-0400
TZOFFSETTO:-0500
TZNAME:EST
DTSTART:20191103T060000
END:STANDARD
END:VTIMEZONE
BEGIN:VEVENT
DTSTART;VALUE=DATE:20190628
DTEND;VALUE=DATE:20190629
DTSTAMP:20210405T031705
CREATED:20190624T204915Z
LAST-MODIFIED:20190624T204915Z
UID:165668-1561680000-1561766399@www.patriotguard.org
SUMMARY:Traveling Kentucky Vietnam Wall
DESCRIPTION:HOTH Mission\nTraveling Kentucky Vietnam Wall\nBerry\, Kentucky – 06-28-19\n\n\n\n\nABOUT THE MISSION: \nPlease join us as we  escort the Kentucky Vietnam Veteran’s Wall to Falmouth for the weekend to honor our Veterans.\n\n\nPRIMARY STAGING DETAILS: 06-28-19 \nStaging Time: 13:30  \nAntioch Christian Church\n12785 Hwy 27 North\nBerry \, Kentucky 41003\n\n\nRide Captain: \nBob O’Banion  (859)512-1860\nJack Redd (513)658-0864\n\n\nSpecial Instructions: \nWe will be escorting the Wall from the church to the Old Court House in Falmouth  233 Main Street\, 41040\n\nFlags & Water:\nFlags will not be provided\nIf you have large bike flags\, please bring them.\nWater will be provided.\n\n\n\nSubmitted By: Bobby O’Banion \nPosition: Kentucky Ride Captain \n\nNote: You do not have to own/ride a motorcycle or be a veteran to join\, and membership is Free. The only requirement is RESPECT! To subscribe to receive mission notices\, log into the National Site and click on the Members tab at the top. Select the Subscribe to PGR Missions option.\n Print This Page
URL:https://www.patriotguard.org/mission/traveling-kentucky-vietnam-wall-2/
CATEGORIES:HOTH Mission
END:VEVENT
END:VCALENDAR