BEGIN:VCALENDAR
VERSION:2.0
PRODID:-//Patriot Guard Riders - ECPv5.6.0//NONSGML v1.0//EN
CALSCALE:GREGORIAN
METHOD:PUBLISH
X-WR-CALNAME:Patriot Guard Riders
X-ORIGINAL-URL:https://www.patriotguard.org
X-WR-CALDESC:Events for Patriot Guard Riders
BEGIN:VTIMEZONE
TZID:America/New_York
BEGIN:DAYLIGHT
TZOFFSETFROM:-0500
TZOFFSETTO:-0400
TZNAME:EDT
DTSTART:20160313T070000
END:DAYLIGHT
BEGIN:STANDARD
TZOFFSETFROM:-0400
TZOFFSETTO:-0500
TZNAME:EST
DTSTART:20161106T060000
END:STANDARD
END:VTIMEZONE
BEGIN:VEVENT
DTSTART;TZID=America/New_York:20160813T090000
DTEND;TZID=America/New_York:20160813T110000
DTSTAMP:20210512T025349
CREATED:20160813T130000Z
LAST-MODIFIED:20191201T143644Z
UID:409971-1471078800-1471086000@www.patriotguard.org
SUMMARY:TOMMY WAYNE WALLACE\, 70\, USN\, Vietnam /  Aley
DESCRIPTION:TOMMY WAYNE WALLACE (70)\nUNITED STATES NAVY\nVIETNAM VETERAN\nSATURDAY\, AUGUST 13\, 2016\n\n[ATTACH=CONFIG]5017[/ATTACH]\n\n\n\nBorn: November 25\, 1945\nDeceased: July 12\, 2016\n\nHis family has requested that the PGR attend his services.  The mission is a ‘go’ and all contacts have been made.  \nTommy  joined the Navy in October 1965 and served for over four years\, with  two tours of duty as a river boat gunner patrolling the Mekong River  during the Viet Nam War. Unfortunately\, his exposure to Agent Orange  during his service led to many of the health problems he suffered during  the latter years of his life. After an Honorable discharge from the  Navy with the rating of E4 – Petty Officer Third Class. \nTommy returned to Dallas to spend the remainder of his adult life  working in both the public & private sector. He was member of the  Big D 57 Texas Disabled American Veterans.\n\nServices:  3:30 pm Saturday\, August 13th at King Cemetery\, Aley\, Texas.  There will be a flag line only at the cemetery. \nStaging:  At the cemetery from 2:15 pm to 2:45 pm with a riders meeting at 2:45 pm. \nAll  new members are requested to sign a PGR release of liability prior to flag line.Please remain flexible as to the requirements of the mission.\n\nMap link staging area: https://goo.gl/maps/qsN5aDtNN482\n\nRide Captain:  Brad Hayes\nPhone: [URL=”tel:903-520-2409″]903-520-2409[/URL]\nEmail Address:  brad.hayes68@yahoo.com \nFlag Captain:  Sam “The Colonel” Murrell\nPhone: [URL=”tel:903-513-3877″]903-513-3877[/URL]\nEmail Address:samurrell3@hughes.net \nWeather Report:  HOT!  High temp 100 degrees\, so please hydrate often\, including the night before. \nALL  GROUPS\, CLUBS\, INDEPENDENTS\, ETC. ARE WELCOME.  The only prerequisite  is RESPECT.  Also remember\, you do not have to ride a motorcycle to join  in.  The flag line is open to all who wish to participate.
URL:https://www.patriotguard.org/mission/tommy-wayne-wallace-70-usn-vietnam-aley/
CATEGORIES:Archive
END:VEVENT
END:VCALENDAR