BEGIN:VCALENDAR
VERSION:2.0
PRODID:-//Patriot Guard Riders - ECPv5.3.2.1//NONSGML v1.0//EN
CALSCALE:GREGORIAN
METHOD:PUBLISH
X-WR-CALNAME:Patriot Guard Riders
X-ORIGINAL-URL:https://www.patriotguard.org
X-WR-CALDESC:Events for Patriot Guard Riders
BEGIN:VTIMEZONE
TZID:America/New_York
BEGIN:DAYLIGHT
TZOFFSETFROM:-0500
TZOFFSETTO:-0400
TZNAME:EDT
DTSTART:20190310T070000
END:DAYLIGHT
BEGIN:STANDARD
TZOFFSETFROM:-0400
TZOFFSETTO:-0500
TZNAME:EST
DTSTART:20191103T060000
END:STANDARD
END:VTIMEZONE
BEGIN:VEVENT
DTSTART;VALUE=DATE:20190806
DTEND;VALUE=DATE:20190807
DTSTAMP:20210402T073651
CREATED:20190804T013722Z
LAST-MODIFIED:20190810T064616Z
UID:169680-1565049600-1565135999@www.patriotguard.org
SUMMARY:Tommy Lee Keene
DESCRIPTION:Honor Mission\nTommy Lee Keene\, Veteran\nUS Navy\nPensacola\, Florida – 08-06-19\n\n\nABOUT THE MISSION:\n\nIt is with deep regret to announce that we have lost another Veteran\, Tommy Lee Keene. The Patriot Guard has been graciously invited by the family to escort him to his final resting place and stand a silent flag line in his honor at Barrancas National Cemetery. EMC Keene honorably served in the United States Navy for 19 years and departed this earth at age 80. He received the following awards: National Defense Service Medal and Good Conduct Medal\, 4th Award. Honors will be at Barrancas National Cemetery Site B.Staging will be at Whataburger\, 5480 Pensacola Blvd.\, Pensacola\, FL at 0915 AM.\n\n\nPRIMARY STAGING DETAILS: 08-06-19 \nStaging Time: 09:15 AM \nWhataburger\n5480 Pensacola Blvd.\nPensacola\, Florida\n\n\nRide Captain: \nCam “Chief” Hatton\nCameron.hatton@gmail.com\n(503) 706-6930\n\n\nSpecial Instructions: \nNAS requires long sleeve shirts and trousers\, long-fingered gloves\, DOT approved helmets\, leather footwear covering the ankles and proper eye protection while riding on the base.\n\n10:00 AM- Safety briefing for all riders\n10:15 AM- KSU to Trahan Family Funeral Home\n10:30 AM – Arrival at Trahan’s\n11:00 AM- KSU to Barrancas National Cemetery Site B w/LEO Escort\n11:30 AM – Honors at Barrancas National Cemetery\n\n\nFlags & Water:\n\nFlags will be provided\nIf you have large bike flags\, please bring them.\nWater will be provided.\n\n\n\nSubmitted By: Ray Doyle \nPosition: Florida Assistant State Captain \n\nNote: You do not have to own/ride a motorcycle or be a veteran to join\, and membership is Free. The only requirement is RESPECT! To subscribe to receive mission notices\, log into the National Site and click on the Members tab at the top. Select the Subscribe to PGR Missions option.
URL:https://www.patriotguard.org/mission/tommy-lee-keene/
CATEGORIES:Honor Mission
END:VEVENT
END:VCALENDAR