BEGIN:VCALENDAR
VERSION:2.0
PRODID:-//Patriot Guard Riders - ECPv5.3.2.1//NONSGML v1.0//EN
CALSCALE:GREGORIAN
METHOD:PUBLISH
X-WR-CALNAME:Patriot Guard Riders
X-ORIGINAL-URL:https://www.patriotguard.org
X-WR-CALDESC:Events for Patriot Guard Riders
BEGIN:VTIMEZONE
TZID:America/New_York
BEGIN:DAYLIGHT
TZOFFSETFROM:-0500
TZOFFSETTO:-0400
TZNAME:EDT
DTSTART:20190310T070000
END:DAYLIGHT
BEGIN:STANDARD
TZOFFSETFROM:-0400
TZOFFSETTO:-0500
TZNAME:EST
DTSTART:20191103T060000
END:STANDARD
END:VTIMEZONE
BEGIN:VEVENT
DTSTART;VALUE=DATE:20190724
DTEND;VALUE=DATE:20190725
DTSTAMP:20210404T041313
CREATED:20190722T040932Z
LAST-MODIFIED:20190722T040932Z
UID:168470-1563926400-1564012799@www.patriotguard.org
SUMMARY:Tommy G. Spradling
DESCRIPTION:Honor Mission\nTommy G. Spradling\, Veteran\nUSA – Vietnam\nGreenville\, Texas – 07-24-19\n\n\n \n\nABOUT THE MISSION: \nMr. Spradling served in the US Army from September 1968 until April 1970 and was awarded National Defense Service Medal\, Vietnam Service Medal\, Republic of Vietnam Campaign Medal\, and M-14 Marksman Badge.\n\n\nPRIMARY STAGING DETAILS: 07-24-19 \nStaging Time: 1:00 pm\n \nVansickle Baptist Church\n2181 Co Rd 2246\nGreenville\, Texas 75402\n\n\nRide Captain: \nJim Wiggins\njimwtx@verizon.net\n(903) 217-4066\n\n\nSpecial Instructions: \nBriefing Time: 1:15 pm\nIn Position/KSU Time: 1:30 pm\nStarting Time: 2:00 pm\nA mission briefing will be held\, and the riders will establish the Flag Line for the funeral service. When the service begins\, flags will be returned to the support vehicle to relocate to the interment site detailed in part 2 of this mission. Riders participating in the procession will receive a safety briefing and ready the bikes to accompany Mr. Spradling\, family and friends in the procession to the interment site. Procession: Escort Provided\n\nFlags & Water:\nFlags will be provided\nIf you have large bike flags\, please bring them.\nWater will be provided.\n\nSTAGING #2 DETAILS: 07-24-19 \nStaging Time: 2:45 pm\n \nMemoryland Memorial Park\n808 W Jack Finney Blvd\nGreenville\, Texas 75402\n\n\nRide Captain: \nJim Wiggins\njimwtx@verizon.net\n(903) 217-4066\n\n\nSpecial Instructions: \nBriefing Time: 2:45 pm\nIn Position/KSU Time: 2:55 pm\nStarting Time: 3:00 pm  — Time Estimated\nRiders at this location will set the flags and await the arrival of Mr. Spradling\, family and friends. Riders will man the flag line and stand tall and silent during the Interment Service. When directed\, flags will be returned to the support vehicle\, furled and stowed. Riders will then be debriefed and dismissed. A military honor guard is expected to perform honors.\nNote: Times are estimated for this portion since length of the preceding service and transit time to the cemetery are uncertain.\n\nFlags & Water:\nFlags will be provided\nIf you have large bike flags\, please bring them.\nWater will be provided.\n\n\n\nSubmitted By: Dan Mathys \nPosition: Texas Ride Captain \n\nNote: You do not have to own/ride a motorcycle or be a veteran to join\, and membership is Free. The only requirement is RESPECT! To subscribe to receive mission notices\, log into the National Site and click on the Members tab at the top. Select the Subscribe to PGR Missions option.\n Print This Page
URL:https://www.patriotguard.org/mission/tommy-g-spradling/
CATEGORIES:Honor Mission
END:VEVENT
END:VCALENDAR