BEGIN:VCALENDAR
VERSION:2.0
PRODID:-//Patriot Guard Riders - ECPv5.6.0//NONSGML v1.0//EN
CALSCALE:GREGORIAN
METHOD:PUBLISH
X-WR-CALNAME:Patriot Guard Riders
X-ORIGINAL-URL:https://www.patriotguard.org
X-WR-CALDESC:Events for Patriot Guard Riders
BEGIN:VTIMEZONE
TZID:America/New_York
BEGIN:DAYLIGHT
TZOFFSETFROM:-0500
TZOFFSETTO:-0400
TZNAME:EDT
DTSTART:20160313T070000
END:DAYLIGHT
BEGIN:STANDARD
TZOFFSETFROM:-0400
TZOFFSETTO:-0500
TZNAME:EST
DTSTART:20161106T060000
END:STANDARD
END:VTIMEZONE
BEGIN:VEVENT
DTSTART;TZID=America/New_York:20160614T090000
DTEND;TZID=America/New_York:20160614T110000
DTSTAMP:20210513T145355
CREATED:20160614T130000Z
LAST-MODIFIED:20191201T145232Z
UID:411416-1465894800-1465902000@www.patriotguard.org
SUMMARY:Tom M. Taylor\, 82\, USMC
DESCRIPTION:Sgt Tom M. Taylor\, 82\n\nSandusky\, Ohio \n\nUnited States Marine Corps Korean War Veteran\n[ATTACH=CONFIG]4796[/ATTACH]\n\n\n\nVisitation / Services:\nOhio Veterans Home\nGiffin Chapel\n3416 Columbus Avenue\nSandusky\, Ohio 44870\nVisitation:  14 June 2016 @ 1300 hrs. – (1:00 PM) \nMilitary Service:  14 June 2016 @ 1330 hrs. – (1:30 PM)\nStaging: 14 June 2016 @ 1200 hrs. – (12:00 PM) \nServices will conclude at the Chapel.  There will be no cemetery escort. \nDistrict # 2 Captain Gary Knight will be assigned this mission of Honor and Respect.  Please follow his instructions. Remember your 3’x5′ American flags. Dress for the weather and stand with your knees at a slight bend.  If you need to contact Gary\, you can email him at gillkiki@neo.rr.com \n\n\n“Rest in Peace Sgt Taylor”\n[ATTACH=CONFIG]4797[/ATTACH]\n\n\n\nBob Woods OHSC\nOPHSC@patriotguard.org
URL:https://www.patriotguard.org/mission/tom-m-taylor-82-usmc/
CATEGORIES:Archive
END:VEVENT
END:VCALENDAR