BEGIN:VCALENDAR
VERSION:2.0
PRODID:-//Patriot Guard Riders - ECPv5.3.2.1//NONSGML v1.0//EN
CALSCALE:GREGORIAN
METHOD:PUBLISH
X-WR-CALNAME:Patriot Guard Riders
X-ORIGINAL-URL:https://www.patriotguard.org
X-WR-CALDESC:Events for Patriot Guard Riders
BEGIN:VTIMEZONE
TZID:America/New_York
BEGIN:DAYLIGHT
TZOFFSETFROM:-0500
TZOFFSETTO:-0400
TZNAME:EDT
DTSTART:20190310T070000
END:DAYLIGHT
BEGIN:STANDARD
TZOFFSETFROM:-0400
TZOFFSETTO:-0500
TZNAME:EST
DTSTART:20191103T060000
END:STANDARD
END:VTIMEZONE
BEGIN:VEVENT
DTSTART;VALUE=DATE:20190527
DTEND;VALUE=DATE:20190528
DTSTAMP:20210405T024854
CREATED:20190526T103342Z
LAST-MODIFIED:20190526T103342Z
UID:162400-1558915200-1559001599@www.patriotguard.org
SUMMARY:Tipton Veterans Memorial
DESCRIPTION:HOTH Mission\nTipton Veterans Memorial\nTipton\, Missouri – 05-27-19\n\n\n\n\nABOUT THE MISSION: \nThe Patriot Guard Riders have been graciously invited to participate in the Dedication and Blessing of the Tipton Veterans Memorial located near the entrance of the Tipton City Park. We will stand a flag line to honor those that gave their lives in service to this nation.\n\n\nPRIMARY STAGING DETAILS: 05-27-19 \nStaging Time: 9:30 a.m.\n \nTipton Veterans Memorial\nTipton City Park\nTipton\, Missouri 65081\nMap\n\n\nRide Captain: \nLee Davis\, Deerhunterlee@gmail.com\, 816-273-6316\n\n\nSpecial Instructions: \nBriefing will be at 9:30 am\nDedication begins at 10:00 am\nHotdogs and chips will be served following the dedication.\n\n\nFlags & Water:\nFlags will be provided\nIf you have large bike flags\, please bring them.\nWater will be provided.\n\n\nSubmitted By: David Bledsoe \nPosition: Missouri Ride Captain \n\nNote: You do not have to own/ride a motorcycle or be a veteran to join\, and membership is Free. The only requirement is RESPECT! To subscribe to receive mission notices\, log into the National Site and click on the Members tab at the top. Select the Subscribe to PGR Missions option.\n Print This Page
URL:https://www.patriotguard.org/mission/tipton-veterans-memorial/
CATEGORIES:HOTH Mission
END:VEVENT
END:VCALENDAR